{"text_format":"1","workbook":"xlsx","n_sheets":8,"sheets":["使い方","入力シート","リンク貼付用シート","都道府県シート","中間シート","様式第9","様式第9別紙","非表示シート"],"not_rendered":{"charts":0,"images":12,"macros":1,"external_links":0,"defined_names":3,"comments":0,"pivot_tables":0},"unopened":[],"bounds":{"document_bytes":16777216,"sheet_cells":100000,"rows_first":2000,"rows_last":500,"rows_between":2000,"halvings":0,"cell_chars":16384,"cell_head_chars":4096},"cells_cut":0,"cells_raw":0,"read":"whole","date_system":"1900"}

{"sheet":"使い方","index":0,"n_rows":0,"n_cols":0,"rows_kept":0,"cut":false,"hidden":false,"merged":[]}

{"sheet":"入力シート","index":1,"n_rows":492,"n_cols":23,"rows_kept":492,"cut":false,"hidden":false,"merged":[[484,4,491,4],[484,5,484,10],[484,11,484,17],[484,18,484,28],[485,5,486,5],[485,6,486,10],[485,11,486,17],[485,18,491,28],[487,6,487,10],[487,11,487,17],[488,6,488,10],[488,11,488,17],[489,6,489,10],[489,11,489,17],[490,5,490,7],[490,8,490,10],[490,11,490,12],[490,13,490,17],[491,5,491,7],[491,8,491,10],[491,11,491,12],[491,13,491,17],[475,4,482,4],[475,5,475,10],[475,11,475,17],[475,18,475,28],[476,5,477,5],[476,6,477,10],[476,11,477,17],[476,18,482,28],[478,6,478,10],[478,11,478,17],[479,6,479,10],[479,11,479,17],[480,6,480,10],[480,11,480,17],[481,5,481,7],[481,8,481,10],[481,11,481,12],[481,13,481,17],[482,5,482,7],[482,8,482,10],[482,11,482,12],[482,13,482,17],[466,4,473,4],[466,5,466,10],[466,11,466,17],[466,18,466,28],[467,5,468,5],[467,6,468,10],[467,11,468,17],[467,18,473,28],[469,6,469,10],[469,11,469,17],[470,6,470,10],[470,11,470,17],[471,6,471,10],[471,11,471,17],[472,5,472,7],[472,8,472,10],[472,11,472,12],[472,13,472,17],[473,5,473,7],[473,8,473,10],[473,11,473,12],[473,13,473,17],[457,4,464,4],[457,5,457,10],[457,11,457,17],[457,18,457,28],[458,5,459,5],[458,6,459,10],[458,11,459,17],[458,18,464,28],[460,6,460,10],[460,11,460,17],[461,6,461,10],[461,11,461,17],[462,6,462,10],[462,11,462,17],[463,5,463,7],[463,8,463,10],[463,11,463,12],[463,13,463,17],[464,5,464,7],[464,8,464,10],[464,11,464,12],[464,13,464,17],[448,4,455,4],[448,5,448,10],[448,11,448,17],[448,18,448,28],[449,5,450,5],[449,6,450,10],[449,11,450,17],[449,18,455,28],[451,6,451,10],[451,11,451,17],[452,6,452,10],[452,11,452,17],[453,6,453,10],[453,11,453,17],[454,5,454,7],[454,8,454,10],[454,11,454,12],[454,13,454,17],[455,5,455,7],[455,8,455,10],[455,11,455,12],[455,13,455,17],[439,4,446,4],[439,5,439,10],[439,11,439,17],[439,18,439,28],[440,5,441,5],[440,6,441,10],[440,11,441,17],[440,18,446,28],[442,6,442,10],[442,11,442,17],[443,6,443,10],[443,11,443,17],[444,6,444,10],[444,11,444,17],[445,5,445,7],[445,8,445,10],[445,11,445,12],[445,13,445,17],[446,5,446,7],[446,8,446,10],[446,11,446,12],[446,13,446,17],[430,4,437,4],[430,5,430,10],[430,11,430,17],[430,18,430,28],[431,5,432,5],[431,6,432,10],[431,11,432,17],[431,18,437,28],[433,6,433,10],[433,11,433,17],[434,6,434,10],[434,11,434,17],[435,6,435,10],[435,11,435,17],[436,5,436,7],[436,8,436,10],[436,11,436,12],[436,13,436,17],[437,5,437,7],[437,8,437,10],[437,11,437,12],[437,13,437,17],[421,4,428,4],[421,5,421,10],[421,11,421,17],[421,18,421,28],[422,5,423,5],[422,6,423,10],[422,11,423,17],[422,18,428,28],[424,6,424,10],[424,11,424,17],[425,6,425,10],[425,11,425,17],[426,6,426,10],[426,11,426,17],[427,5,427,7],[427,8,427,10],[427,11,427,12],[427,13,427,17],[428,5,428,7],[428,8,428,10],[428,11,428,12],[428,13,428,17],[412,4,419,4],[412,5,412,10],[412,11,412,17],[412,18,412,28],[413,5,414,5],[413,6,414,10],[413,11,414,17],[413,18,419,28],[415,6,415,10],[415,11,415,17],[416,6,416,10],[416,11,416,17],[417,6,417,10],[417,11,417,17],[418,5,418,7],[418,8,418,10],[418,11,418,12],[418,13,418,17],[419,5,419,7],[419,8,419,10],[419,11,419,12],[419,13,419,17],[403,4,410,4],[403,5,403,10],[403,11,403,17],[403,18,403,28],[404,5,405,5],[404,6,405,10],[404,11,405,17],[404,18,410,28],[406,6,406,10],[406,11,406,17],[407,6,407,10],[407,11,407,17],[408,6,408,10],[408,11,408,17],[409,5,409,7],[409,8,409,10],[409,11,409,12],[409,13,409,17],[410,5,410,7],[410,8,410,10],[410,11,410,12],[410,13,410,17],[394,4,401,4],[394,5,394,10],[394,11,394,17],[394,18,394,28],[395,5,396,5],[395,6,396,10],[395,11,396,17],[395,18,401,28],[397,6,397,10],[397,11,397,17],[398,6,398,10],[398,11,398,17],[399,6,399,10],[399,11,399,17],[400,5,400,7],[400,8,400,10],[400,11,400,12],[400,13,400,17],[401,5,401,7],[401,8,401,10],[401,11,401,12],[401,13,401,17],[385,4,392,4],[385,5,385,10],[385,11,385,17],[385,18,385,28],[386,5,387,5],[386,6,387,10],[386,11,387,17],[386,18,392,28],[388,6,388,10],[388,11,388,17],[389,6,389,10],[389,11,389,17],[390,6,390,10],[390,11,390,17],[391,5,391,7],[391,8,391,10],[391,11,391,12],[391,13,391,17],[392,5,392,7],[392,8,392,10],[392,11,392,12],[392,13,392,17],[376,4,383,4],[376,5,376,10],[376,11,376,17],[376,18,376,28],[377,5,378,5],[377,6,378,10],[377,11,378,17],[377,18,383,28],[379,6,379,10],[379,11,379,17],[380,6,380,10],[380,11,380,17],[381,6,381,10],[381,11,381,17],[382,5,382,7],[382,8,382,10],[382,11,382,12],[382,13,382,17],[383,5,383,7],[383,8,383,10],[383,11,383,12],[383,13,383,17],[367,4,374,4],[367,5,367,10],[367,11,367,17],[367,18,367,28],[368,5,369,5],[368,6,369,10],[368,11,369,17],[368,18,374,28],[370,6,370,10],[370,11,370,17],[371,6,371,10],[371,11,371,17],[372,6,372,10],[372,11,372,17],[373,5,373,7],[373,8,373,10],[373,11,373,12],[373,13,373,17],[374,5,374,7],[374,8,374,10],[374,11,374,12],[374,13,374,17],[358,4,365,4],[358,5,358,10],[358,11,358,17],[358,18,358,28],[359,5,360,5],[359,6,360,10],[359,11,360,17],[359,18,365,28],[361,6,361,10],[361,11,361,17],[362,6,362,10],[362,11,362,17],[363,6,363,10],[363,11,363,17],[364,5,364,7],[364,8,364,10],[364,11,364,12],[364,13,364,17],[365,5,365,7],[365,8,365,10],[365,11,365,12],[365,13,365,17],[349,4,356,4],[349,5,349,10],[349,11,349,17],[349,18,349,28],[350,5,351,5],[350,6,351,10],[350,11,351,17],[350,18,356,28],[352,6,352,10],[352,11,352,17],[353,6,353,10],[353,11,353,17],[354,6,354,10],[354,11,354,17],[355,5,355,7],[355,8,355,10],[355,11,355,12],[355,13,355,17],[356,5,356,7],[356,8,356,10],[356,11,356,12],[356,13,356,17],[340,4,347,4],[340,5,340,10],[340,11,340,17],[340,18,340,28],[341,5,342,5],[341,6,342,10],[341,11,342,17],[341,18,347,28],[343,6,343,10],[343,11,343,17],[344,6,344,10],[344,11,344,17],[345,6,345,10],[345,11,345,17],[346,5,346,7],[346,8,346,10],[346,11,346,12],[346,13,346,17],[347,5,347,7],[347,8,347,10],[347,11,347,12],[347,13,347,17],[331,4,338,4],[331,5,331,10],[331,11,331,17],[331,18,331,28],[332,5,333,5],[332,6,333,10],[332,11,333,17],[332,18,338,28],[334,6,334,10],[334,11,334,17],[335,6,335,10],[335,11,335,17],[336,6,336,10],[336,11,336,17],[337,5,337,7],[337,8,337,10],[337,11,337,12],[337,13,337,17],[338,5,338,7],[338,8,338,10],[338,11,338,12],[338,13,338,17],[322,4,329,4],[322,5,322,10],[322,11,322,17],[322,18,322,28],[323,5,324,5],[323,6,324,10],[323,11,324,17],[323,18,329,28],[325,6,325,10],[325,11,325,17],[326,6,326,10],[326,11,326,17],[327,6,327,10],[327,11,327,17],[328,5,328,7],[328,8,328,10],[328,11,328,12],[328,13,328,17],[329,5,329,7],[329,8,329,10],[329,11,329,12],[329,13,329,17],[313,4,320,4],[313,5,313,10],[313,11,313,17],[313,18,313,28],[314,5,315,5],[314,6,315,10],[314,11,315,17],[314,18,320,28],[316,6,316,10],[316,11,316,17],[317,6,317,10],[317,11,317,17],[318,6,318,10],[318,11,318,17],[319,5,319,7],[319,8,319,10],[319,11,319,12],[319,13,319,17],[320,5,320,7],[320,8,320,10],[320,11,320,12],[320,13,320,17],[304,4,311,4],[304,5,304,10],[304,11,304,17],[304,18,304,28],[305,5,306,5],[305,6,306,10],[305,11,306,17],[305,18,311,28],[307,6,307,10],[307,11,307,17],[308,6,308,10],[308,11,308,17],[309,6,309,10],[309,11,309,17],[310,5,310,7],[310,8,310,10],[310,11,310,12],[310,13,310,17],[311,5,311,7],[311,8,311,10],[311,11,311,12],[311,13,311,17],[295,4,302,4],[295,5,295,10],[295,11,295,17],[295,18,295,28],[296,5,297,5],[296,6,297,10],[296,11,297,17],[296,18,302,28],[298,6,298,10],[298,11,298,17],[299,6,299,10],[299,11,299,17],[300,6,300,10],[300,11,300,17],[301,5,301,7],[301,8,301,10],[301,11,301,12],[301,13,301,17],[302,5,302,7],[302,8,302,10],[302,11,302,12],[302,13,302,17],[286,4,293,4],[286,5,286,10],[286,11,286,17],[286,18,286,28],[287,5,288,5],[287,6,288,10],[287,11,288,17],[287,18,293,28],[289,6,289,10],[289,11,289,17],[290,6,290,10],[290,11,290,17],[291,6,291,10],[291,11,291,17],[292,5,292,7],[292,8,292,10],[292,11,292,12],[292,13,292,17],[293,5,293,7],[293,8,293,10],[293,11,293,12],[293,13,293,17],[277,4,284,4],[277,5,277,10],[277,11,277,17],[277,18,277,28],[278,5,279,5],[278,6,279,10],[278,11,279,17],[278,18,284,28],[280,6,280,10],[280,11,280,17],[281,6,281,10],[281,11,281,17],[282,6,282,10],[282,11,282,17],[283,5,283,7],[283,8,283,10],[283,11,283,12],[283,13,283,17],[284,5,284,7],[284,8,284,10],[284,11,284,12],[284,13,284,17],[268,4,275,4],[268,5,268,10],[268,11,268,17],[268,18,268,28],[269,5,270,5],[269,6,270,10],[269,11,270,17],[269,18,275,28],[271,6,271,10],[271,11,271,17],[272,6,272,10],[272,11,272,17],[273,6,273,10],[273,11,273,17],[274,5,274,7],[274,8,274,10],[274,11,274,12],[274,13,274,17],[275,5,275,7],[275,8,275,10],[275,11,275,12],[275,13,275,17],[259,4,266,4],[259,5,259,10],[259,11,259,17],[259,18,259,28],[260,5,261,5],[260,6,261,10],[260,11,261,17],[260,18,266,28],[262,6,262,10],[262,11,262,17],[263,6,263,10],[263,11,263,17],[264,6,264,10],[264,11,264,17],[265,5,265,7],[265,8,265,10],[265,11,265,12],[265,13,265,17],[266,5,266,7],[266,8,266,10],[266,11,266,12],[266,13,266,17],[250,4,257,4],[250,5,250,10],[250,11,250,17],[250,18,250,28],[251,5,252,5],[251,6,252,10],[251,11,252,17],[251,18,257,28],[253,6,253,10],[253,11,253,17],[254,6,254,10],[254,11,254,17],[255,6,255,10],[255,11,255,17],[256,5,256,7],[256,8,256,10],[256,11,256,12],[256,13,256,17],[257,5,257,7],[257,8,257,10],[257,11,257,12],[257,13,257,17],[241,4,248,4],[241,5,241,10],[241,11,241,17],[241,18,241,28],[242,5,243,5],[242,6,243,10],[242,11,243,17],[242,18,248,28],[244,6,244,10],[244,11,244,17],[245,6,245,10],[245,11,245,17],[246,6,246,10],[246,11,246,17],[247,5,247,7],[247,8,247,10],[247,11,247,12],[247,13,247,17],[248,5,248,7],[248,8,248,10],[248,11,248,12],[248,13,248,17],[232,4,239,4],[232,5,232,10],[232,11,232,17],[232,18,232,28],[233,5,234,5],[233,6,234,10],[233,11,234,17],[233,18,239,28],[235,6,235,10],[235,11,235,17],[236,6,236,10],[236,11,236,17],[237,6,237,10],[237,11,237,17],[238,5,238,7],[238,8,238,10],[238,11,238,12],[238,13,238,17],[239,5,239,7],[239,8,239,10],[239,11,239,12],[239,13,239,17],[223,4,230,4],[223,5,223,10],[223,11,223,17],[223,18,223,28],[224,5,225,5],[224,6,225,10],[224,11,225,17],[224,18,230,28],[226,6,226,10],[226,11,226,17],[227,6,227,10],[227,11,227,17],[228,6,228,10],[228,11,228,17],[229,5,229,7],[229,8,229,10],[229,11,229,12],[229,13,229,17],[230,5,230,7],[230,8,230,10],[230,11,230,12],[230,13,230,17],[214,4,221,4],[214,5,214,10],[214,11,214,17],[214,18,214,28],[215,5,216,5],[215,6,216,10],[215,11,216,17],[215,18,221,28],[217,6,217,10],[217,11,217,17],[218,6,218,10],[218,11,218,17],[219,6,219,10],[219,11,219,17],[220,5,220,7],[220,8,220,10],[220,11,220,12],[220,13,220,17],[221,5,221,7],[221,8,221,10],[221,11,221,12],[221,13,221,17],[205,4,212,4],[205,5,205,10],[205,11,205,17],[205,18,205,28],[206,5,207,5],[206,6,207,10],[206,11,207,17],[206,18,212,28],[208,6,208,10],[208,11,208,17],[209,6,209,10],[209,11,209,17],[210,6,210,10],[210,11,210,17],[211,5,211,7],[211,8,211,10],[211,11,211,12],[211,13,211,17],[212,5,212,7],[212,8,212,10],[212,11,212,12],[212,13,212,17],[196,4,203,4],[196,5,196,10],[196,11,196,17],[196,18,196,28],[197,5,198,5],[197,6,198,10],[197,11,198,17],[197,18,203,28],[199,6,199,10],[199,11,199,17],[200,6,200,10],[200,11,200,17],[201,6,201,10],[201,11,201,17],[202,5,202,7],[202,8,202,10],[202,11,202,12],[202,13,202,17],[203,5,203,7],[203,8,203,10],[203,11,203,12],[203,13,203,17],[187,4,194,4],[187,5,187,10],[187,11,187,17],[187,18,187,28],[188,5,189,5],[188,6,189,10],[188,11,189,17],[188,18,194,28],[190,6,190,10],[190,11,190,17],[191,6,191,10],[191,11,191,17],[192,6,192,10],[192,11,192,17],[193,5,193,7],[193,8,193,10],[193,11,193,12],[193,13,193,17],[194,5,194,7],[194,8,194,10],[194,11,194,12],[194,13,194,17],[178,4,185,4],[178,5,178,10],[178,11,178,17],[178,18,178,28],[179,5,180,5],[179,6,180,10],[179,11,180,17],[179,18,185,28],[181,6,181,10],[181,11,181,17],[182,6,182,10],[182,11,182,17],[183,6,183,10],[183,11,183,17],[184,5,184,7],[184,8,184,10],[184,11,184,12],[184,13,184,17],[185,5,185,7],[185,8,185,10],[185,11,185,12],[185,13,185,17],[169,4,176,4],[169,5,169,10],[169,11,169,17],[169,18,169,28],[170,5,171,5],[170,6,171,10],[170,11,171,17],[170,18,176,28],[172,6,172,10],[172,11,172,17],[173,6,173,10],[173,11,173,17],[174,6,174,10],[174,11,174,17],[175,5,175,7],[175,8,175,10],[175,11,175,12],[175,13,175,17],[176,5,176,7],[176,8,176,10],[176,11,176,12],[176,13,176,17],[160,4,167,4],[160,5,160,10],[160,11,160,17],[160,18,160,28],[161,5,162,5],[161,6,162,10],[161,11,162,17],[161,18,167,28],[163,6,163,10],[163,11,163,17],[164,6,164,10],[164,11,164,17],[165,6,165,10],[165,11,165,17],[166,5,166,7],[166,8,166,10],[166,11,166,12],[166,13,166,17],[167,5,167,7],[167,8,167,10],[167,11,167,12],[167,13,167,17],[151,4,158,4],[151,5,151,10],[151,11,151,17],[151,18,151,28],[152,5,153,5],[152,6,153,10],[152,11,153,17],[152,18,158,28],[154,6,154,10],[154,11,154,17],[155,6,155,10],[155,11,155,17],[156,6,156,10],[156,11,156,17],[157,5,157,7],[157,8,157,10],[157,11,157,12],[157,13,157,17],[158,5,158,7],[158,8,158,10],[158,11,158,12],[158,13,158,17],[142,4,149,4],[142,5,142,10],[142,11,142,17],[142,18,142,28],[143,5,144,5],[143,6,144,10],[143,11,144,17],[143,18,149,28],[145,6,145,10],[145,11,145,17],[146,6,146,10],[146,11,146,17],[147,6,147,10],[147,11,147,17],[148,5,148,7],[148,8,148,10],[148,11,148,12],[148,13,148,17],[149,5,149,7],[149,8,149,10],[149,11,149,12],[149,13,149,17],[133,4,140,4],[133,5,133,10],[133,11,133,17],[133,18,133,28],[134,5,135,5],[134,6,135,10],[134,11,135,17],[134,18,140,28],[136,6,136,10],[136,11,136,17],[137,6,137,10],[137,11,137,17],[138,6,138,10],[138,11,138,17],[139,5,139,7],[139,8,139,10],[139,11,139,12],[139,13,139,17],[140,5,140,7],[140,8,140,10],[140,11,140,12],[140,13,140,17],[124,4,131,4],[124,5,124,10],[124,11,124,17],[124,18,124,28],[125,5,126,5],[125,6,126,10],[125,11,126,17],[125,18,131,28],[127,6,127,10],[127,11,127,17],[128,6,128,10],[128,11,128,17],[129,6,129,10],[129,11,129,17],[130,5,130,7],[130,8,130,10],[130,11,130,12],[130,13,130,17],[131,5,131,7],[131,8,131,10],[131,11,131,12],[131,13,131,17],[115,4,122,4],[115,5,115,10],[115,11,115,17],[115,18,115,28],[116,5,117,5],[116,6,117,10],[116,11,117,17],[116,18,122,28],[118,6,118,10],[118,11,118,17],[119,6,119,10],[119,11,119,17],[120,6,120,10],[120,11,120,17],[121,5,121,7],[121,8,121,10],[121,11,121,12],[121,13,121,17],[122,5,122,7],[122,8,122,10],[122,11,122,12],[122,13,122,17],[106,4,113,4],[106,5,106,10],[106,11,106,17],[106,18,106,28],[107,5,108,5],[107,6,108,10],[107,11,108,17],[107,18,113,28],[109,6,109,10],[109,11,109,17],[110,6,110,10],[110,11,110,17],[111,6,111,10],[111,11,111,17],[112,5,112,7],[112,8,112,10],[112,11,112,12],[112,13,112,17],[113,5,113,7],[113,8,113,10],[113,11,113,12],[113,13,113,17],[97,4,104,4],[97,5,97,10],[97,11,97,17],[97,18,97,28],[98,5,99,5],[98,6,99,10],[98,11,99,17],[98,18,104,28],[100,6,100,10],[100,11,100,17],[101,6,101,10],[101,11,101,17],[102,6,102,10],[102,11,102,17],[103,5,103,7],[103,8,103,10],[103,11,103,12],[103,13,103,17],[104,5,104,7],[104,8,104,10],[104,11,104,12],[104,13,104,17],[88,4,95,4],[88,5,88,10],[88,11,88,17],[88,18,88,28],[89,5,90,5],[89,6,90,10],[89,11,90,17],[89,18,95,28],[91,6,91,10],[91,11,91,17],[92,6,92,10],[92,11,92,17],[93,6,93,10],[93,11,93,17],[94,5,94,7],[94,8,94,10],[94,11,94,12],[94,13,94,17],[95,5,95,7],[95,8,95,10],[95,11,95,12],[95,13,95,17],[79,4,86,4],[79,5,79,10],[79,11,79,17],[79,18,79,28],[80,5,81,5],[80,6,81,10],[80,11,81,17],[80,18,86,28],[82,6,82,10],[82,11,82,17]],"merged_total":1193,"flags":["merged_cut"]}
[]
[null,null,null,null,"■入力必須項目残数　＊（アスタリスク）の箇所は入力必須項目です（入力に不備があった場合は再提出となる場合があります）",null,null,null,null,null,null,null,null,null,null,null,null,null,null,null,null,null,"■各合計金額"]
[]
[]
[]
[null,null,null,null,"■入力フォーム",null,null,null,null,null,null,null,null,null,null,null,null,null,"■入力ガイド",null,null,"※入力に不備があった場合は再提出となる場合があります"]
[null,null,null,null,"書類作成日＊",null,null,null,null,"令和",null,null,"年",null,"月",null,null,"日","当書類の作成日を入力して下さい"]
[null,null,null,null,"１．申請者情報"]
[null,null,null,null,"法人名（個人事業主の場合は\n商号・屋号等）＊",null,null,null,null,null,null,null,null,null,null,null,null,null,"・漢字平仮名は全角、英数字は半角で入力して下さい\n・登記した際の名称を正しく記載して下さい"]
[]
[null,null,null,"〇","法人・個人事業主\nの選択＊",null,null,"<以下から選択>\n「1」法人\n「2」個人事業主",null,null,null,{"$f":"IF(J11=1,\"法人\",IF(J11=2,\"個人事業主\",\"\"))","v":""},null,null,null,null,null,null,"法人は「1」を個人事業主は「2」を入力して下さい"]
[null,null,null,null,"　代表者氏名＊",null,null,"姓",null,null,null,null,"名",null,null,null,null,null,"全角で入力して下さい"]
[null,null,null,null,"代表者役職",null,null,null,null,null,null,null,null,null,null,null,null,null,"全角で入力して下さい　※個人事業主は入力不要です"]
[null,null,null,null,"会社所在地\n（個人事業主の場合は\n自宅住所）",null,null,"郵便番号＊",null,null,null,null,"　都道府県＊",null,null,null,null,null,"・郵便番号はハイフンは入れず数字７桁で入力して下さい\n・町名は市区町村欄に入力して下さい\n・丁目、番地の表記はハイフンで入力して下さい\n・番地、建物名称が無い場合は入力不要です"]
[null,null,null,null,null,null,null,"市区町村＊",null,null,null,null,"番地"]
[null,null,null,null,null,null,null,"建物名称"]
[]
[null,null,null,null,"２．本補助事業実績報告に係る連絡先"]
[null,null,null,null,"　担当者氏名＊",null,null,"姓",null,null,null,null,"名",null,null,null,null,null,"全角で入力して下さい"]
[null,null,null,null,"担当部署",null,null,null,null,null,null,null,"担当者役職",null,null,null,null,null,"漢字平仮名は全角、英数字は半角で入力して下さい"]
[null,null,null,null,"質問等連絡先",null,null,"　電話＊",null,null,null,"-",null,null,"-",null,null,null,"ハイフンで区切って３分割して入力して下さい"]
[null,null,null,null,null,null,null,"FAX",null,null,null,"-",null,null,"-",null,null,null,"ハイフンで区切って３分割して入力して下さい"]
[null,null,null,null,null,null,null,"　E-mail＊",null,null,null,null,null,null,null,null,null,null,"当該様式を送信する際の担当者メールアドレスを記載して下さい"]
[]
[null,null,null,null,"３．【郵送申請者のみ】通知書送付方法　※メール申請者は記入不要"]
[null,null,null,null,"送付方法＊",null,"<以下から選択>\n「1」メール\n「2」郵送（会社所在地）\n「3」郵送（会社所在地以外）",null,null,1,null,{"$f":"IF(J26=1,\"メール送付を希望\",IF(J26=2,\"会社所在地への郵送を希望\",IF(J26=3,\"会社所在地以外の住所へ郵送を希望\",\"\")))","v":"メール送付を希望"},null,null,null,null,null,null,"メール送付を希望する場合は「1」を\n会社所在地への郵送を希望する場合は「2」を\n会社所在地以外の住所へ郵送を希望する場合は「3」を入力して下さい"]
[null,null,null,null," ※上記で「3」を選択した場合は記入が必要"]
[null,null,null,null,"送付先法人名・屋号等",null,null,null,null,null,null,null,null,null,null,null,null,null,"漢字平仮名は全角、英数字は半角で入力して下さい"]
[null,null,null,null,"送付先住所",null,null,"郵便番号",null,null,null,null,"都道府県",null,null,null,null,null,"・郵便番号はハイフンは入れず数字７桁で入力して下さい\n・町名は市区町村欄に入力して下さい\n・丁目、番地の表記はハイフンで入力して下さい\n・番地、建物名称が無い場合は入力不要です"]
[null,null,null,null,null,null,null,"市区町村",null,null,null,null,"番地"]
[null,null,null,null,null,null,null,"建物名称"]
[]
[null,null,null,null,"４．様式関連"]
[null,null,null,null,"様式第9の文書番号",null,null,null,null,null,null,null,null,null,null,null,null,null,"申請者側の文書管理番号を入力して下さい\n※文書管理番号が無い、あるいは記載の必要がない場合は入力不要です"]
[null,null,null,null,"交付決定番号＊",null,null,null,null,null,null,null,null,null,null,null,null,null,"様式第２で事務局から事業者へ交付された数字の８から始まる５桁の番号"]
[null,null,null,null,"交付決定年月日＊",null,null,null,null,"令和",null,null,"年",null,"月",null,null,"日","様式第２で事務局から事業者へ交付された交付決定日"]
[null,null,null,null,"事業完了年月日",null,null,null,null,"令和",null,null,"年",null,"月",null,null,"日","事業が完了した日付\n※実績提出期限までに完了していない場合は空欄でご提出下さい"]
[]
[null,null,null,null,"５．申請した事業場について ※①～②の順に従って入力等を行って下さい"]
[0,null,null,null,"① 申請合計事業場数＊",null,null,null,null,null,"※申請した事業場の合計事業場数を入力して下さい"]
[]
[null,null,null,null,"② ↑の①を入力後に↓のボタンを必ず押下して下さい＊"]
[]
[{"$f":"(50+$B44)-$A$40","v":51},1,null,null,"事業場１＊","申請時の補助対象経費＊",null,null,null,null,null,null,null,null,null,null,null,null,"様式第２で事業場毎に記載されている補助対象経費を記載"]
[{"$f":"(50+$B45)-$A$40","v":51},1,null,null,null,"申請\n機器","対象経費の金額\n（購入したスキャンツールの金額）",null,null,null,null,"販売店負担振込み手数料",null,null,null,null,null,null,"・対象経費の金額（購入したスキャンツールの金額）\n　納品書等のスキャンツール１台分の金額を入力して下さい\n\n・販売店負担振込み手数料\n　販売店負担の場合のみ振込み手数料の金額を入力して下さい\n　※事業者が振込み手数料を負担した場合は記載不要です"]
[51,1]
[51,1,null,null,null,"１台目＊"]
[51,1,null,null,null,"２台目"]
[51,1,null,null,null,"３台目"]
[51,1,null,null,null,"補助対象経費の実績額",null,null,"補助対象経費",null,null,"補助率",null,"補助金の額"]
[51,1,null,null,null,{"$f":"(G47-L47)+(G48-L48)+(G49-L49)","v":0},null,null,{"$f":"MIN(L44,F51)","v":0},null,null,{"$f":"IF(G47=\"\",\"\",\"0.606/3\")","v":""},null,{"$f":"IF(ROUNDDOWN(I51*0.202,-3)>=150000,150000,ROUNDDOWN(I51*0.202,-3))","v":0}]
[null,""]
[{"$f":"(50+$B53)-$A$40","v":52},2,null,null,"事業場2","申請時の補助対象経費",null,null,null,null,null,null,null,null,null,null,null,null,"様式第２で事業場毎に記載されている補助対象経費を記載"]
[{"$f":"(50+$B54)-$A$40","v":52},2,null,null,null,"申請\n機器","対象経費の金額\n（購入したスキャンツールの金額）",null,null,null,null,"販売店負担振込み手数料",null,null,null,null,null,null,"・対象経費の金額（購入したスキャンツールの金額）\n　納品書等のスキャンツール１台分の金額を入力して下さい\n\n・販売店負担振込み手数料\n　販売店負担の場合のみ振込み手数料の金額を入力して下さい\n　※事業者が振込み手数料を負担した場合は記載不要です"]
[52,2]
[52,2,null,null,null,"１台目"]
[52,2,null,null,null,"２台目"]
[52,2,null,null,null,"３台目"]
[52,2,null,null,null,"補助対象経費の実績額",null,null,"補助対象経費",null,null,"補助率",null,"補助金の額"]
[52,2,null,null,null,{"$f":"(G56-L56)+(G57-L57)+(G58-L58)","v":0},null,null,{"$f":"MIN(L53,F60)","v":0},null,null,{"$f":"IF(G56=\"\",\"\",\"0.606/3\")","v":""},null,{"$f":"IF(ROUNDDOWN(I60*0.202,-3)>=150000,150000,ROUNDDOWN(I60*0.202,-3))","v":0}]
[null,""]
[{"$f":"(50+$B62)-$A$40","v":53},3,null,null,"事業場3","申請時の補助対象経費",null,null,null,null,null,null,null,null,null,null,null,null,"様式第２で事業場毎に記載されている補助対象経費を記載"]
[53,3,null,null,null,"申請\n機器","対象経費の金額\n（購入したスキャンツールの金額）",null,null,null,null,"販売店負担振込み手数料",null,null,null,null,null,null,"・対象経費の金額（購入したスキャンツールの金額）\n　納品書等のスキャンツール１台分の金額を入力して下さい\n\n・販売店負担振込み手数料\n　販売店負担の場合のみ振込み手数料の金額を入力して下さい\n　※事業者が振込み手数料を負担した場合は記載不要です"]
[53,3]
[53,3,null,null,null,"１台目"]
[53,3,null,null,null,"２台目"]
[53,3,null,null,null,"３台目"]
[53,3,null,null,null,"補助対象経費の実績額",null,null,"補助対象経費",null,null,"補助率",null,"補助金の額"]
[53,3,null,null,null,{"$f":"(G65-L65)+(G66-L66)+(G67-L67)","v":0},null,null,{"$f":"MIN(L62,F69)","v":0},null,null,{"$f":"IF(G65=\"\",\"\",\"0.606/3\")","v":""},null,{"$f":"IF(ROUNDDOWN(I69*0.202,-3)>=150000,150000,ROUNDDOWN(I69*0.202,-3))","v":0}]
[null,""]
[{"$f":"(50+$B71)-$A$40","v":54},4,null,null,"事業場4","申請時の補助対象経費",null,null,null,null,null,null,null,null,null,null,null,null,"様式第２で事業場毎に記載されている補助対象経費を記載"]
[54,4,null,null,null,"申請\n機器","対象経費の金額\n（購入したスキャンツールの金額）",null,null,null,null,"販売店負担振込み手数料",null,null,null,null,null,null,"・対象経費の金額（購入したスキャンツールの金額）\n　納品書等のスキャンツール１台分の金額を入力して下さい\n\n・販売店負担振込み手数料\n　販売店負担の場合のみ振込み手数料の金額を入力して下さい\n　※事業者が振込み手数料を負担した場合は記載不要です"]
[54,4]
[54,4,null,null,null,"１台目"]
[54,4,null,null,null,"２台目"]
[54,4,null,null,null,"３台目"]
[54,4,null,null,null,"補助対象経費の実績額",null,null,"補助対象経費",null,null,"補助率",null,"補助金の額"]
[54,4,null,null,null,{"$f":"(G74-L74)+(G75-L75)+(G76-L76)","v":0},null,null,{"$f":"MIN(L71,F78)","v":0},null,null,{"$f":"IF(G74=\"\",\"\",\"0.606/3\")","v":""},null,{"$f":"IF(ROUNDDOWN(I78*0.202,-3)>=150000,150000,ROUNDDOWN(I78*0.202,-3))","v":0}]
[null,""]
[{"$f":"(50+$B80)-$A$40","v":55},5,null,null,"事業場5","申請時の補助対象経費",null,null,null,null,null,null,null,null,null,null,null,null,"様式第２で事業場毎に記載されている補助対象経費を記載"]
[55,5,null,null,null,"申請\n機器","対象経費の金額\n（購入したスキャンツールの金額）",null,null,null,null,"販売店負担振込み手数料",null,null,null,null,null,null,"・対象経費の金額（購入したスキャンツールの金額）\n　納品書等のスキャンツール１台分の金額を入力して下さい\n\n・販売店負担振込み手数料\n　販売店負担の場合のみ振込み手数料の金額を入力して下さい\n　※事業者が振込み手数料を負担した場合は記載不要です"]
[55,5]
[55,5,null,null,null,"１台目"]
[55,5,null,null,null,"２台目"]
[55,5,null,null,null,"３台目"]
[55,5,null,null,null,"補助対象経費の実績額",null,null,"補助対象経費",null,null,"補助率",null,"補助金の額"]
[55,5,null,null,null,{"$f":"(G83-L83)+(G84-L84)+(G85-L85)","v":0},null,null,{"$f":"MIN(L80,F87)","v":0},null,null,{"$f":"IF(G83=\"\",\"\",\"0.606/3\")","v":""},null,{"$f":"IF(ROUNDDOWN(I87*0.202,-3)>=150000,150000,ROUNDDOWN(I87*0.202,-3))","v":0}]
[null,""]
[{"$f":"(50+$B89)-$A$40","v":56},6,null,null,"事業場6","申請時の補助対象経費",null,null,null,null,null,null,null,null,null,null,null,null,"様式第２で事業場毎に記載されている補助対象経費を記載"]
[56,6,null,null,null,"申請\n機器","対象経費の金額\n（購入したスキャンツールの金額）",null,null,null,null,"販売店負担振込み手数料",null,null,null,null,null,null,"・対象経費の金額（購入したスキャンツールの金額）\n　納品書等のスキャンツール１台分の金額を入力して下さい\n\n・販売店負担振込み手数料\n　販売店負担の場合のみ振込み手数料の金額を入力して下さい\n　※事業者が振込み手数料を負担した場合は記載不要です"]
[56,6]
[56,6,null,null,null,"１台目"]
[56,6,null,null,null,"２台目"]
[56,6,null,null,null,"３台目"]
[56,6,null,null,null,"補助対象経費の実績額",null,null,"補助対象経費",null,null,"補助率",null,"補助金の額"]
[56,6,null,null,null,{"$f":"(G92-L92)+(G93-L93)+(G94-L94)","v":0},null,null,{"$f":"MIN(L89,F96)","v":0},null,null,{"$f":"IF(G92=\"\",\"\",\"0.606/3\")","v":""},null,{"$f":"IF(ROUNDDOWN(I96*0.202,-3)>=150000,150000,ROUNDDOWN(I96*0.202,-3))","v":0}]
[null,""]
[{"$f":"(50+$B98)-$A$40","v":57},7,null,null,"事業場7","申請時の補助対象経費",null,null,null,null,null,null,null,null,null,null,null,null,"様式第２で事業場毎に記載されている補助対象経費を記載"]
[57,7,null,null,null,"申請\n機器","対象経費の金額\n（購入したスキャンツールの金額）",null,null,null,null,"販売店負担振込み手数料",null,null,null,null,null,null,"・対象経費の金額（購入したスキャンツールの金額）\n　納品書等のスキャンツール１台分の金額を入力して下さい\n\n・販売店負担振込み手数料\n　販売店負担の場合のみ振込み手数料の金額を入力して下さい\n　※事業者が振込み手数料を負担した場合は記載不要です"]
[57,7]
[57,7,null,null,null,"１台目"]
[57,7,null,null,null,"２台目"]
[57,7,null,null,null,"３台目"]
[57,7,null,null,null,"補助対象経費の実績額",null,null,"補助対象経費",null,null,"補助率",null,"補助金の額"]
[57,7,null,null,null,{"$f":"(G101-L101)+(G102-L102)+(G103-L103)","v":0},null,null,{"$f":"MIN(L98,F105)","v":0},null,null,{"$f":"IF(G101=\"\",\"\",\"0.606/3\")","v":""},null,{"$f":"IF(ROUNDDOWN(I105*0.202,-3)>=150000,150000,ROUNDDOWN(I105*0.202,-3))","v":0}]
[null,""]
[{"$f":"(50+$B107)-$A$40","v":58},8,null,null,"事業場8","申請時の補助対象経費",null,null,null,null,null,null,null,null,null,null,null,null,"様式第２で事業場毎に記載されている補助対象経費を記載"]
[58,8,null,null,null,"申請\n機器","対象経費の金額\n（購入したスキャンツールの金額）",null,null,null,null,"販売店負担振込み手数料",null,null,null,null,null,null,"・対象経費の金額（購入したスキャンツールの金額）\n　納品書等のスキャンツール１台分の金額を入力して下さい\n\n・販売店負担振込み手数料\n　販売店負担の場合のみ振込み手数料の金額を入力して下さい\n　※事業者が振込み手数料を負担した場合は記載不要です"]
[58,8]
[58,8,null,null,null,"１台目"]
[58,8,null,null,null,"２台目"]
[58,8,null,null,null,"３台目"]
[58,8,null,null,null,"補助対象経費の実績額",null,null,"補助対象経費",null,null,"補助率",null,"補助金の額"]
[58,8,null,null,null,{"$f":"(G110-L110)+(G111-L111)+(G112-L112)","v":0},null,null,{"$f":"MIN(L107,F114)","v":0},null,null,{"$f":"IF(G110=\"\",\"\",\"0.606/3\")","v":""},null,{"$f":"IF(ROUNDDOWN(I114*0.202,-3)>=150000,150000,ROUNDDOWN(I114*0.202,-3))","v":0}]
[null,""]
[{"$f":"(50+$B116)-$A$40","v":59},9,null,null,"事業場9","申請時の補助対象経費",null,null,null,null,null,null,null,null,null,null,null,null,"様式第２で事業場毎に記載されている補助対象経費を記載"]
[59,9,null,null,null,"申請\n機器","対象経費の金額\n（購入したスキャンツールの金額）",null,null,null,null,"販売店負担振込み手数料",null,null,null,null,null,null,"・対象経費の金額（購入したスキャンツールの金額）\n　納品書等のスキャンツール１台分の金額を入力して下さい\n\n・販売店負担振込み手数料\n　販売店負担の場合のみ振込み手数料の金額を入力して下さい\n　※事業者が振込み手数料を負担した場合は記載不要です"]
[59,9]
[59,9,null,null,null,"１台目"]
[59,9,null,null,null,"２台目"]
[59,9,null,null,null,"３台目"]
[59,9,null,null,null,"補助対象経費の実績額",null,null,"補助対象経費",null,null,"補助率",null,"補助金の額"]
[59,9,null,null,null,{"$f":"(G119-L119)+(G120-L120)+(G121-L121)","v":0},null,null,{"$f":"MIN(L116,F123)","v":0},null,null,{"$f":"IF(G119=\"\",\"\",\"0.606/3\")","v":""},null,{"$f":"IF(ROUNDDOWN(I123*0.202,-3)>=150000,150000,ROUNDDOWN(I123*0.202,-3))","v":0}]
[null,""]
[{"$f":"(50+$B125)-$A$40","v":60},10,null,null,"事\n業\n場\n10","申請時の補助対象経費",null,null,null,null,null,null,null,null,null,null,null,null,"様式第２で事業場毎に記載されている補助対象経費を記載"]
[60,10,null,null,null,"申請\n機器","対象経費の金額\n（購入したスキャンツールの金額）",null,null,null,null,"販売店負担振込み手数料",null,null,null,null,null,null,"・対象経費の金額（購入したスキャンツールの金額）\n　納品書等のスキャンツール１台分の金額を入力して下さい\n\n・販売店負担振込み手数料\n　販売店負担の場合のみ振込み手数料の金額を入力して下さい\n　※事業者が振込み手数料を負担した場合は記載不要です"]
[60,10]
[60,10,null,null,null,"１台目"]
[60,10,null,null,null,"２台目"]
[60,10,null,null,null,"３台目"]
[60,10,null,null,null,"補助対象経費の実績額",null,null,"補助対象経費",null,null,"補助率",null,"補助金の額"]
[60,10,null,null,null,{"$f":"(G128-L128)+(G129-L129)+(G130-L130)","v":0},null,null,{"$f":"MIN(L125,F132)","v":0},null,null,{"$f":"IF(G128=\"\",\"\",\"0.606/3\")","v":""},null,{"$f":"IF(ROUNDDOWN(I132*0.202,-3)>=150000,150000,ROUNDDOWN(I132*0.202,-3))","v":0}]
[null,""]
[{"$f":"(50+$B134)-$A$40","v":61},11,null,null,"事\n業\n場\n11","申請時の補助対象経費",null,null,null,null,null,null,null,null,null,null,null,null,"様式第２で事業場毎に記載されている補助対象経費を記載"]
[61,11,null,null,null,"申請\n機器","対象経費の金額\n（購入したスキャンツールの金額）",null,null,null,null,"販売店負担振込み手数料",null,null,null,null,null,null,"・対象経費の金額（購入したスキャンツールの金額）\n　納品書等のスキャンツール１台分の金額を入力して下さい\n\n・販売店負担振込み手数料\n　販売店負担の場合のみ振込み手数料の金額を入力して下さい\n　※事業者が振込み手数料を負担した場合は記載不要です"]
[61,11]
[61,11,null,null,null,"１台目"]
[61,11,null,null,null,"２台目"]
[61,11,null,null,null,"３台目"]
[61,11,null,null,null,"補助対象経費の実績額",null,null,"補助対象経費",null,null,"補助率",null,"補助金の額"]
[61,11,null,null,null,{"$f":"(G137-L137)+(G138-L138)+(G139-L139)","v":0},null,null,{"$f":"MIN(L134,F141)","v":0},null,null,{"$f":"IF(G137=\"\",\"\",\"0.606/3\")","v":""},null,{"$f":"IF(ROUNDDOWN(I141*0.202,-3)>=150000,150000,ROUNDDOWN(I141*0.202,-3))","v":0}]
[null,""]
[{"$f":"(50+$B143)-$A$40","v":62},12,null,null,"事\n業\n場\n12","申請時の補助対象経費",null,null,null,null,null,null,null,null,null,null,null,null,"様式第２で事業場毎に記載されている補助対象経費を記載"]
[62,12,null,null,null,"申請\n機器","対象経費の金額\n（購入したスキャンツールの金額）",null,null,null,null,"販売店負担振込み手数料",null,null,null,null,null,null,"・対象経費の金額（購入したスキャンツールの金額）\n　納品書等のスキャンツール１台分の金額を入力して下さい\n\n・販売店負担振込み手数料\n　販売店負担の場合のみ振込み手数料の金額を入力して下さい\n　※事業者が振込み手数料を負担した場合は記載不要です"]
[62,12]
[62,12,null,null,null,"１台目"]
[62,12,null,null,null,"２台目"]
[62,12,null,null,null,"３台目"]
[62,12,null,null,null,"補助対象経費の実績額",null,null,"補助対象経費",null,null,"補助率",null,"補助金の額"]
[62,12,null,null,null,{"$f":"(G146-L146)+(G147-L147)+(G148-L148)","v":0},null,null,{"$f":"MIN(L143,F150)","v":0},null,null,{"$f":"IF(G146=\"\",\"\",\"0.606/3\")","v":""},null,{"$f":"IF(ROUNDDOWN(I150*0.202,-3)>=150000,150000,ROUNDDOWN(I150*0.202,-3))","v":0}]
[null,""]
[{"$f":"(50+$B152)-$A$40","v":63},13,null,null,"事\n業\n場\n13","申請時の補助対象経費",null,null,null,null,null,null,null,null,null,null,null,null,"様式第２で事業場毎に記載されている補助対象経費を記載"]
[63,13,null,null,null,"申請\n機器","対象経費の金額\n（購入したスキャンツールの金額）",null,null,null,null,"販売店負担振込み手数料",null,null,null,null,null,null,"・対象経費の金額（購入したスキャンツールの金額）\n　納品書等のスキャンツール１台分の金額を入力して下さい\n\n・販売店負担振込み手数料\n　販売店負担の場合のみ振込み手数料の金額を入力して下さい\n　※事業者が振込み手数料を負担した場合は記載不要です"]
[63,13]
[63,13,null,null,null,"１台目"]
[63,13,null,null,null,"２台目"]
[63,13,null,null,null,"３台目"]
[63,13,null,null,null,"補助対象経費の実績額",null,null,"補助対象経費",null,null,"補助率",null,"補助金の額"]
[63,13,null,null,null,{"$f":"(G155-L155)+(G156-L156)+(G157-L157)","v":0},null,null,{"$f":"MIN(L152,F159)","v":0},null,null,{"$f":"IF(G155=\"\",\"\",\"0.606/3\")","v":""},null,{"$f":"IF(ROUNDDOWN(I159*0.202,-3)>=150000,150000,ROUNDDOWN(I159*0.202,-3))","v":0}]
[null,""]
[{"$f":"(50+$B161)-$A$40","v":64},14,null,null,"事\n業\n場\n14","申請時の補助対象経費",null,null,null,null,null,null,null,null,null,null,null,null,"様式第２で事業場毎に記載されている補助対象経費を記載"]
[64,14,null,null,null,"申請\n機器","対象経費の金額\n（購入したスキャンツールの金額）",null,null,null,null,"販売店負担振込み手数料",null,null,null,null,null,null,"・対象経費の金額（購入したスキャンツールの金額）\n　納品書等のスキャンツール１台分の金額を入力して下さい\n\n・販売店負担振込み手数料\n　販売店負担の場合のみ振込み手数料の金額を入力して下さい\n　※事業者が振込み手数料を負担した場合は記載不要です"]
[64,14]
[64,14,null,null,null,"１台目"]
[64,14,null,null,null,"２台目"]
[64,14,null,null,null,"３台目"]
[64,14,null,null,null,"補助対象経費の実績額",null,null,"補助対象経費",null,null,"補助率",null,"補助金の額"]
[64,14,null,null,null,{"$f":"(G164-L164)+(G165-L165)+(G166-L166)","v":0},null,null,{"$f":"MIN(L161,F168)","v":0},null,null,{"$f":"IF(G164=\"\",\"\",\"0.606/3\")","v":""},null,{"$f":"IF(ROUNDDOWN(I168*0.202,-3)>=150000,150000,ROUNDDOWN(I168*0.202,-3))","v":0}]
[null,""]
[{"$f":"(50+$B170)-$A$40","v":65},15,null,null,"事\n業\n場\n15","申請時の補助対象経費",null,null,null,null,null,null,null,null,null,null,null,null,"様式第２で事業場毎に記載されている補助対象経費を記載"]
[65,15,null,null,null,"申請\n機器","対象経費の金額\n（購入したスキャンツールの金額）",null,null,null,null,"販売店負担振込み手数料",null,null,null,null,null,null,"・対象経費の金額（購入したスキャンツールの金額）\n　納品書等のスキャンツール１台分の金額を入力して下さい\n\n・販売店負担振込み手数料\n　販売店負担の場合のみ振込み手数料の金額を入力して下さい\n　※事業者が振込み手数料を負担した場合は記載不要です"]
[65,15]
[65,15,null,null,null,"１台目"]
[65,15,null,null,null,"２台目"]
[65,15,null,null,null,"３台目"]
[65,15,null,null,null,"補助対象経費の実績額",null,null,"補助対象経費",null,null,"補助率",null,"補助金の額"]
[65,15,null,null,null,{"$f":"(G173-L173)+(G174-L174)+(G175-L175)","v":0},null,null,{"$f":"MIN(L170,F177)","v":0},null,null,{"$f":"IF(G173=\"\",\"\",\"0.606/3\")","v":""},null,{"$f":"IF(ROUNDDOWN(I177*0.202,-3)>=150000,150000,ROUNDDOWN(I177*0.202,-3))","v":0}]
[null,""]
[{"$f":"(50+$B179)-$A$40","v":66},16,null,null,"事\n業\n場\n16","申請時の補助対象経費",null,null,null,null,null,null,null,null,null,null,null,null,"様式第２で事業場毎に記載されている補助対象経費を記載"]
[66,16,null,null,null,"申請\n機器","対象経費の金額\n（購入したスキャンツールの金額）",null,null,null,null,"販売店負担振込み手数料",null,null,null,null,null,null,"・対象経費の金額（購入したスキャンツールの金額）\n　納品書等のスキャンツール１台分の金額を入力して下さい\n\n・販売店負担振込み手数料\n　販売店負担の場合のみ振込み手数料の金額を入力して下さい\n　※事業者が振込み手数料を負担した場合は記載不要です"]
[66,16]
[66,16,null,null,null,"１台目"]
[66,16,null,null,null,"２台目"]
[66,16,null,null,null,"３台目"]
[66,16,null,null,null,"補助対象経費の実績額",null,null,"補助対象経費",null,null,"補助率",null,"補助金の額"]
[66,16,null,null,null,{"$f":"(G182-L182)+(G183-L183)+(G184-L184)","v":0},null,null,{"$f":"MIN(L179,F186)","v":0},null,null,{"$f":"IF(G182=\"\",\"\",\"0.606/3\")","v":""},null,{"$f":"IF(ROUNDDOWN(I186*0.202,-3)>=150000,150000,ROUNDDOWN(I186*0.202,-3))","v":0}]
[null,""]
[{"$f":"(50+$B188)-$A$40","v":67},17,null,null,"事\n業\n場\n17","申請時の補助対象経費",null,null,null,null,null,null,null,null,null,null,null,null,"様式第２で事業場毎に記載されている補助対象経費を記載"]
[67,17,null,null,null,"申請\n機器","対象経費の金額\n（購入したスキャンツールの金額）",null,null,null,null,"販売店負担振込み手数料",null,null,null,null,null,null,"・対象経費の金額（購入したスキャンツールの金額）\n　納品書等のスキャンツール１台分の金額を入力して下さい\n\n・販売店負担振込み手数料\n　販売店負担の場合のみ振込み手数料の金額を入力して下さい\n　※事業者が振込み手数料を負担した場合は記載不要です"]
[67,17]
[67,17,null,null,null,"１台目"]
[67,17,null,null,null,"２台目"]
[67,17,null,null,null,"３台目"]
[67,17,null,null,null,"補助対象経費の実績額",null,null,"補助対象経費",null,null,"補助率",null,"補助金の額"]
[67,17,null,null,null,{"$f":"(G191-L191)+(G192-L192)+(G193-L193)","v":0},null,null,{"$f":"MIN(L188,F195)","v":0},null,null,{"$f":"IF(G191=\"\",\"\",\"0.606/3\")","v":""},null,{"$f":"IF(ROUNDDOWN(I195*0.202,-3)>=150000,150000,ROUNDDOWN(I195*0.202,-3))","v":0}]
[null,""]
[{"$f":"(50+$B197)-$A$40","v":68},18,null,null,"事\n業\n場\n18","申請時の補助対象経費",null,null,null,null,null,null,null,null,null,null,null,null,"様式第２で事業場毎に記載されている補助対象経費を記載"]
[68,18,null,null,null,"申請\n機器","対象経費の金額\n（購入したスキャンツールの金額）",null,null,null,null,"販売店負担振込み手数料",null,null,null,null,null,null,"・対象経費の金額（購入したスキャンツールの金額）\n　納品書等のスキャンツール１台分の金額を入力して下さい\n\n・販売店負担振込み手数料\n　販売店負担の場合のみ振込み手数料の金額を入力して下さい\n　※事業者が振込み手数料を負担した場合は記載不要です"]
[68,18]
[68,18,null,null,null,"１台目"]
[68,18,null,null,null,"２台目"]
[68,18,null,null,null,"３台目"]
[68,18,null,null,null,"補助対象経費の実績額",null,null,"補助対象経費",null,null,"補助率",null,"補助金の額"]
[68,18,null,null,null,{"$f":"(G200-L200)+(G201-L201)+(G202-L202)","v":0},null,null,{"$f":"MIN(L197,F204)","v":0},null,null,{"$f":"IF(G200=\"\",\"\",\"0.606/3\")","v":""},null,{"$f":"IF(ROUNDDOWN(I204*0.202,-3)>=150000,150000,ROUNDDOWN(I204*0.202,-3))","v":0}]
[null,""]
[{"$f":"(50+$B206)-$A$40","v":69},19,null,null,"事\n業\n場\n19","申請時の補助対象経費",null,null,null,null,null,null,null,null,null,null,null,null,"様式第２で事業場毎に記載されている補助対象経費を記載"]
[69,19,null,null,null,"申請\n機器","対象経費の金額\n（購入したスキャンツールの金額）",null,null,null,null,"販売店負担振込み手数料",null,null,null,null,null,null,"・対象経費の金額（購入したスキャンツールの金額）\n　納品書等のスキャンツール１台分の金額を入力して下さい\n\n・販売店負担振込み手数料\n　販売店負担の場合のみ振込み手数料の金額を入力して下さい\n　※事業者が振込み手数料を負担した場合は記載不要です"]
[69,19]
[69,19,null,null,null,"１台目"]
[69,19,null,null,null,"２台目"]
[69,19,null,null,null,"３台目"]
[69,19,null,null,null,"補助対象経費の実績額",null,null,"補助対象経費",null,null,"補助率",null,"補助金の額"]
[69,19,null,null,null,{"$f":"(G209-L209)+(G210-L210)+(G211-L211)","v":0},null,null,{"$f":"MIN(L206,F213)","v":0},null,null,{"$f":"IF(G209=\"\",\"\",\"0.606/3\")","v":""},null,{"$f":"IF(ROUNDDOWN(I213*0.202,-3)>=150000,150000,ROUNDDOWN(I213*0.202,-3))","v":0}]
[null,""]
[{"$f":"(50+$B215)-$A$40","v":70},20,null,null,"事\n業\n場\n20","申請時の補助対象経費",null,null,null,null,null,null,null,null,null,null,null,null,"様式第２で事業場毎に記載されている補助対象経費を記載"]
[70,20,null,null,null,"申請\n機器","対象経費の金額\n（購入したスキャンツールの金額）",null,null,null,null,"販売店負担振込み手数料",null,null,null,null,null,null,"・対象経費の金額（購入したスキャンツールの金額）\n　納品書等のスキャンツール１台分の金額を入力して下さい\n\n・販売店負担振込み手数料\n　販売店負担の場合のみ振込み手数料の金額を入力して下さい\n　※事業者が振込み手数料を負担した場合は記載不要です"]
[70,20]
[70,20,null,null,null,"１台目"]
[70,20,null,null,null,"２台目"]
[70,20,null,null,null,"３台目"]
[70,20,null,null,null,"補助対象経費の実績額",null,null,"補助対象経費",null,null,"補助率",null,"補助金の額"]
[70,20,null,null,null,{"$f":"(G218-L218)+(G219-L219)+(G220-L220)","v":0},null,null,{"$f":"MIN(L215,F222)","v":0},null,null,{"$f":"IF(G218=\"\",\"\",\"0.606/3\")","v":""},null,{"$f":"IF(ROUNDDOWN(I222*0.202,-3)>=150000,150000,ROUNDDOWN(I222*0.202,-3))","v":0}]
[null,""]
[{"$f":"(50+$B224)-$A$40","v":71},21,null,null,"事\n業\n場\n21","申請時の補助対象経費",null,null,null,null,null,null,null,null,null,null,null,null,"様式第２で事業場毎に記載されている補助対象経費を記載"]
[71,21,null,null,null,"申請\n機器","対象経費の金額\n（購入したスキャンツールの金額）",null,null,null,null,"販売店負担振込み手数料",null,null,null,null,null,null,"・対象経費の金額（購入したスキャンツールの金額）\n　納品書等のスキャンツール１台分の金額を入力して下さい\n\n・販売店負担振込み手数料\n　販売店負担の場合のみ振込み手数料の金額を入力して下さい\n　※事業者が振込み手数料を負担した場合は記載不要です"]
[71,21]
[71,21,null,null,null,"１台目"]
[71,21,null,null,null,"２台目"]
[71,21,null,null,null,"３台目"]
[71,21,null,null,null,"補助対象経費の実績額",null,null,"補助対象経費",null,null,"補助率",null,"補助金の額"]
[71,21,null,null,null,{"$f":"(G227-L227)+(G228-L228)+(G229-L229)","v":0},null,null,{"$f":"MIN(L224,F231)","v":0},null,null,{"$f":"IF(G227=\"\",\"\",\"0.606/3\")","v":""},null,{"$f":"IF(ROUNDDOWN(I231*0.202,-3)>=150000,150000,ROUNDDOWN(I231*0.202,-3))","v":0}]
[null,""]
[{"$f":"(50+$B233)-$A$40","v":72},22,null,null,"事\n業\n場\n22","申請時の補助対象経費",null,null,null,null,null,null,null,null,null,null,null,null,"様式第２で事業場毎に記載されている補助対象経費を記載"]
[72,22,null,null,null,"申請\n機器","対象経費の金額\n（購入したスキャンツールの金額）",null,null,null,null,"販売店負担振込み手数料",null,null,null,null,null,null,"・対象経費の金額（購入したスキャンツールの金額）\n　納品書等のスキャンツール１台分の金額を入力して下さい\n\n・販売店負担振込み手数料\n　販売店負担の場合のみ振込み手数料の金額を入力して下さい\n　※事業者が振込み手数料を負担した場合は記載不要です"]
[72,22]
[72,22,null,null,null,"１台目"]
[72,22,null,null,null,"２台目"]
[72,22,null,null,null,"３台目"]
[72,22,null,null,null,"補助対象経費の実績額",null,null,"補助対象経費",null,null,"補助率",null,"補助金の額"]
[72,22,null,null,null,{"$f":"(G236-L236)+(G237-L237)+(G238-L238)","v":0},null,null,{"$f":"MIN(L233,F240)","v":0},null,null,{"$f":"IF(G236=\"\",\"\",\"0.606/3\")","v":""},null,{"$f":"IF(ROUNDDOWN(I240*0.202,-3)>=150000,150000,ROUNDDOWN(I240*0.202,-3))","v":0}]
[null,""]
[{"$f":"(50+$B242)-$A$40","v":73},23,null,null,"事\n業\n場\n23","申請時の補助対象経費",null,null,null,null,null,null,null,null,null,null,null,null,"様式第２で事業場毎に記載されている補助対象経費を記載"]
[73,23,null,null,null,"申請\n機器","対象経費の金額\n（購入したスキャンツールの金額）",null,null,null,null,"販売店負担振込み手数料",null,null,null,null,null,null,"・対象経費の金額（購入したスキャンツールの金額）\n　納品書等のスキャンツール１台分の金額を入力して下さい\n\n・販売店負担振込み手数料\n　販売店負担の場合のみ振込み手数料の金額を入力して下さい\n　※事業者が振込み手数料を負担した場合は記載不要です"]
[73,23]
[73,23,null,null,null,"１台目"]
[73,23,null,null,null,"２台目"]
[73,23,null,null,null,"３台目"]
[73,23,null,null,null,"補助対象経費の実績額",null,null,"補助対象経費",null,null,"補助率",null,"補助金の額"]
[73,23,null,null,null,{"$f":"(G245-L245)+(G246-L246)+(G247-L247)","v":0},null,null,{"$f":"MIN(L242,F249)","v":0},null,null,{"$f":"IF(G245=\"\",\"\",\"0.606/3\")","v":""},null,{"$f":"IF(ROUNDDOWN(I249*0.202,-3)>=150000,150000,ROUNDDOWN(I249*0.202,-3))","v":0}]
[null,""]
[{"$f":"(50+$B251)-$A$40","v":74},24,null,null,"事\n業\n場\n24","申請時の補助対象経費",null,null,null,null,null,null,null,null,null,null,null,null,"様式第２で事業場毎に記載されている補助対象経費を記載"]
[74,24,null,null,null,"申請\n機器","対象経費の金額\n（購入したスキャンツールの金額）",null,null,null,null,"販売店負担振込み手数料",null,null,null,null,null,null,"・対象経費の金額（購入したスキャンツールの金額）\n　納品書等のスキャンツール１台分の金額を入力して下さい\n\n・販売店負担振込み手数料\n　販売店負担の場合のみ振込み手数料の金額を入力して下さい\n　※事業者が振込み手数料を負担した場合は記載不要です"]
[74,24]
[74,24,null,null,null,"１台目"]
[74,24,null,null,null,"２台目"]
[74,24,null,null,null,"３台目"]
[74,24,null,null,null,"補助対象経費の実績額",null,null,"補助対象経費",null,null,"補助率",null,"補助金の額"]
[74,24,null,null,null,{"$f":"(G254-L254)+(G255-L255)+(G256-L256)","v":0},null,null,{"$f":"MIN(L251,F258)","v":0},null,null,{"$f":"IF(G254=\"\",\"\",\"0.606/3\")","v":""},null,{"$f":"IF(ROUNDDOWN(I258*0.202,-3)>=150000,150000,ROUNDDOWN(I258*0.202,-3))","v":0}]
[null,""]
[{"$f":"(50+$B260)-$A$40","v":75},25,null,null,"事\n業\n場\n25","申請時の補助対象経費",null,null,null,null,null,null,null,null,null,null,null,null,"様式第２で事業場毎に記載されている補助対象経費を記載"]
[75,25,null,null,null,"申請\n機器","対象経費の金額\n（購入したスキャンツールの金額）",null,null,null,null,"販売店負担振込み手数料",null,null,null,null,null,null,"・対象経費の金額（購入したスキャンツールの金額）\n　納品書等のスキャンツール１台分の金額を入力して下さい\n\n・販売店負担振込み手数料\n　販売店負担の場合のみ振込み手数料の金額を入力して下さい\n　※事業者が振込み手数料を負担した場合は記載不要です"]
[75,25]
[75,25,null,null,null,"１台目"]
[75,25,null,null,null,"２台目"]
[75,25,null,null,null,"３台目"]
[75,25,null,null,null,"補助対象経費の実績額",null,null,"補助対象経費",null,null,"補助率",null,"補助金の額"]
[75,25,null,null,null,{"$f":"(G263-L263)+(G264-L264)+(G265-L265)","v":0},null,null,{"$f":"MIN(L260,F267)","v":0},null,null,{"$f":"IF(G263=\"\",\"\",\"0.606/3\")","v":""},null,{"$f":"IF(ROUNDDOWN(I267*0.202,-3)>=150000,150000,ROUNDDOWN(I267*0.202,-3))","v":0}]
[null,""]
[{"$f":"(50+$B269)-$A$40","v":76},26,null,null,"事\n業\n場\n26","申請時の補助対象経費",null,null,null,null,null,null,null,null,null,null,null,null,"様式第２で事業場毎に記載されている補助対象経費を記載"]
[76,26,null,null,null,"申請\n機器","対象経費の金額\n（購入したスキャンツールの金額）",null,null,null,null,"販売店負担振込み手数料",null,null,null,null,null,null,"・対象経費の金額（購入したスキャンツールの金額）\n　納品書等のスキャンツール１台分の金額を入力して下さい\n\n・販売店負担振込み手数料\n　販売店負担の場合のみ振込み手数料の金額を入力して下さい\n　※事業者が振込み手数料を負担した場合は記載不要です"]
[76,26]
[76,26,null,null,null,"１台目"]
[76,26,null,null,null,"２台目"]
[76,26,null,null,null,"３台目"]
[76,26,null,null,null,"補助対象経費の実績額",null,null,"補助対象経費",null,null,"補助率",null,"補助金の額"]
[76,26,null,null,null,{"$f":"(G272-L272)+(G273-L273)+(G274-L274)","v":0},null,null,{"$f":"MIN(L269,F276)","v":0},null,null,{"$f":"IF(G272=\"\",\"\",\"0.606/3\")","v":""},null,{"$f":"IF(ROUNDDOWN(I276*0.202,-3)>=150000,150000,ROUNDDOWN(I276*0.202,-3))","v":0}]
[null,""]
[{"$f":"(50+$B278)-$A$40","v":77},27,null,null,"事\n業\n場\n27","申請時の補助対象経費",null,null,null,null,null,null,null,null,null,null,null,null,"様式第２で事業場毎に記載されている補助対象経費を記載"]
[77,27,null,null,null,"申請\n機器","対象経費の金額\n（購入したスキャンツールの金額）",null,null,null,null,"販売店負担振込み手数料",null,null,null,null,null,null,"・対象経費の金額（購入したスキャンツールの金額）\n　納品書等のスキャンツール１台分の金額を入力して下さい\n\n・販売店負担振込み手数料\n　販売店負担の場合のみ振込み手数料の金額を入力して下さい\n　※事業者が振込み手数料を負担した場合は記載不要です"]
[77,27]
[77,27,null,null,null,"１台目"]
[77,27,null,null,null,"２台目"]
[77,27,null,null,null,"３台目"]
[77,27,null,null,null,"補助対象経費の実績額",null,null,"補助対象経費",null,null,"補助率",null,"補助金の額"]
[77,27,null,null,null,{"$f":"(G281-L281)+(G282-L282)+(G283-L283)","v":0},null,null,{"$f":"MIN(L278,F285)","v":0},null,null,{"$f":"IF(G281=\"\",\"\",\"0.606/3\")","v":""},null,{"$f":"IF(ROUNDDOWN(I285*0.202,-3)>=150000,150000,ROUNDDOWN(I285*0.202,-3))","v":0}]
[null,""]
[{"$f":"(50+$B287)-$A$40","v":78},28,null,null,"事\n業\n場\n28","申請時の補助対象経費",null,null,null,null,null,null,null,null,null,null,null,null,"様式第２で事業場毎に記載されている補助対象経費を記載"]
[78,28,null,null,null,"申請\n機器","対象経費の金額\n（購入したスキャンツールの金額）",null,null,null,null,"販売店負担振込み手数料",null,null,null,null,null,null,"・対象経費の金額（購入したスキャンツールの金額）\n　納品書等のスキャンツール１台分の金額を入力して下さい\n\n・販売店負担振込み手数料\n　販売店負担の場合のみ振込み手数料の金額を入力して下さい\n　※事業者が振込み手数料を負担した場合は記載不要です"]
[78,28]
[78,28,null,null,null,"１台目"]
[78,28,null,null,null,"２台目"]
[78,28,null,null,null,"３台目"]
[78,28,null,null,null,"補助対象経費の実績額",null,null,"補助対象経費",null,null,"補助率",null,"補助金の額"]
[78,28,null,null,null,{"$f":"(G290-L290)+(G291-L291)+(G292-L292)","v":0},null,null,{"$f":"MIN(L287,F294)","v":0},null,null,{"$f":"IF(G290=\"\",\"\",\"0.606/3\")","v":""},null,{"$f":"IF(ROUNDDOWN(I294*0.202,-3)>=150000,150000,ROUNDDOWN(I294*0.202,-3))","v":0}]
[null,""]
[{"$f":"(50+$B296)-$A$40","v":79},29,null,null,"事\n業\n場\n29","申請時の補助対象経費",null,null,null,null,null,null,null,null,null,null,null,null,"様式第２で事業場毎に記載されている補助対象経費を記載"]
[79,29,null,null,null,"申請\n機器","対象経費の金額\n（購入したスキャンツールの金額）",null,null,null,null,"販売店負担振込み手数料",null,null,null,null,null,null,"・対象経費の金額（購入したスキャンツールの金額）\n　納品書等のスキャンツール１台分の金額を入力して下さい\n\n・販売店負担振込み手数料\n　販売店負担の場合のみ振込み手数料の金額を入力して下さい\n　※事業者が振込み手数料を負担した場合は記載不要です"]
[79,29]
[79,29,null,null,null,"１台目"]
[79,29,null,null,null,"２台目"]
[79,29,null,null,null,"３台目"]
[79,29,null,null,null,"補助対象経費の実績額",null,null,"補助対象経費",null,null,"補助率",null,"補助金の額"]
[79,29,null,null,null,{"$f":"(G299-L299)+(G300-L300)+(G301-L301)","v":0},null,null,{"$f":"MIN(L296,F303)","v":0},null,null,{"$f":"IF(G299=\"\",\"\",\"0.606/3\")","v":""},null,{"$f":"IF(ROUNDDOWN(I303*0.202,-3)>=150000,150000,ROUNDDOWN(I303*0.202,-3))","v":0}]
[null,""]
[{"$f":"(50+$B305)-$A$40","v":80},30,null,null,"事\n業\n場\n30","申請時の補助対象経費",null,null,null,null,null,null,null,null,null,null,null,null,"様式第２で事業場毎に記載されている補助対象経費を記載"]
[80,30,null,null,null,"申請\n機器","対象経費の金額\n（購入したスキャンツールの金額）",null,null,null,null,"販売店負担振込み手数料",null,null,null,null,null,null,"・対象経費の金額（購入したスキャンツールの金額）\n　納品書等のスキャンツール１台分の金額を入力して下さい\n\n・販売店負担振込み手数料\n　販売店負担の場合のみ振込み手数料の金額を入力して下さい\n　※事業者が振込み手数料を負担した場合は記載不要です"]
[80,30]
[80,30,null,null,null,"１台目"]
[80,30,null,null,null,"２台目"]
[80,30,null,null,null,"３台目"]
[80,30,null,null,null,"補助対象経費の実績額",null,null,"補助対象経費",null,null,"補助率",null,"補助金の額"]
[80,30,null,null,null,{"$f":"(G308-L308)+(G309-L309)+(G310-L310)","v":0},null,null,{"$f":"MIN(L305,F312)","v":0},null,null,{"$f":"IF(G308=\"\",\"\",\"0.606/3\")","v":""},null,{"$f":"IF(ROUNDDOWN(I312*0.202,-3)>=150000,150000,ROUNDDOWN(I312*0.202,-3))","v":0}]
[null,""]
[{"$f":"(50+$B314)-$A$40","v":81},31,null,null,"事\n業\n場\n31","申請時の補助対象経費",null,null,null,null,null,null,null,null,null,null,null,null,"様式第２で事業場毎に記載されている補助対象経費を記載"]
[81,31,null,null,null,"申請\n機器","対象経費の金額\n（購入したスキャンツールの金額）",null,null,null,null,"販売店負担振込み手数料",null,null,null,null,null,null,"・対象経費の金額（購入したスキャンツールの金額）\n　納品書等のスキャンツール１台分の金額を入力して下さい\n\n・販売店負担振込み手数料\n　販売店負担の場合のみ振込み手数料の金額を入力して下さい\n　※事業者が振込み手数料を負担した場合は記載不要です"]
[81,31]
[81,31,null,null,null,"１台目"]
[81,31,null,null,null,"２台目"]
[81,31,null,null,null,"３台目"]
[81,31,null,null,null,"補助対象経費の実績額",null,null,"補助対象経費",null,null,"補助率",null,"補助金の額"]
[81,31,null,null,null,{"$f":"(G317-L317)+(G318-L318)+(G319-L319)","v":0},null,null,{"$f":"MIN(L314,F321)","v":0},null,null,{"$f":"IF(G317=\"\",\"\",\"0.606/3\")","v":""},null,{"$f":"IF(ROUNDDOWN(I321*0.202,-3)>=150000,150000,ROUNDDOWN(I321*0.202,-3))","v":0}]
[null,""]
[{"$f":"(50+$B323)-$A$40","v":82},32,null,null,"事\n業\n場\n32","申請時の補助対象経費",null,null,null,null,null,null,null,null,null,null,null,null,"様式第２で事業場毎に記載されている補助対象経費を記載"]
[82,32,null,null,null,"申請\n機器","対象経費の金額\n（購入したスキャンツールの金額）",null,null,null,null,"販売店負担振込み手数料",null,null,null,null,null,null,"・対象経費の金額（購入したスキャンツールの金額）\n　納品書等のスキャンツール１台分の金額を入力して下さい\n\n・販売店負担振込み手数料\n　販売店負担の場合のみ振込み手数料の金額を入力して下さい\n　※事業者が振込み手数料を負担した場合は記載不要です"]
[82,32]
[82,32,null,null,null,"１台目"]
[82,32,null,null,null,"２台目"]
[82,32,null,null,null,"３台目"]
[82,32,null,null,null,"補助対象経費の実績額",null,null,"補助対象経費",null,null,"補助率",null,"補助金の額"]
[82,32,null,null,null,{"$f":"(G326-L326)+(G327-L327)+(G328-L328)","v":0},null,null,{"$f":"MIN(L323,F330)","v":0},null,null,{"$f":"IF(G326=\"\",\"\",\"0.606/3\")","v":""},null,{"$f":"IF(ROUNDDOWN(I330*0.202,-3)>=150000,150000,ROUNDDOWN(I330*0.202,-3))","v":0}]
[null,""]
[{"$f":"(50+$B332)-$A$40","v":83},33,null,null,"事\n業\n場\n33","申請時の補助対象経費",null,null,null,null,null,null,null,null,null,null,null,null,"様式第２で事業場毎に記載されている補助対象経費を記載"]
[83,33,null,null,null,"申請\n機器","対象経費の金額\n（購入したスキャンツールの金額）",null,null,null,null,"販売店負担振込み手数料",null,null,null,null,null,null,"・対象経費の金額（購入したスキャンツールの金額）\n　納品書等のスキャンツール１台分の金額を入力して下さい\n\n・販売店負担振込み手数料\n　販売店負担の場合のみ振込み手数料の金額を入力して下さい\n　※事業者が振込み手数料を負担した場合は記載不要です"]
[83,33]
[83,33,null,null,null,"１台目"]
[83,33,null,null,null,"２台目"]
[83,33,null,null,null,"３台目"]
[83,33,null,null,null,"補助対象経費の実績額",null,null,"補助対象経費",null,null,"補助率",null,"補助金の額"]
[83,33,null,null,null,{"$f":"(G335-L335)+(G336-L336)+(G337-L337)","v":0},null,null,{"$f":"MIN(L332,F339)","v":0},null,null,{"$f":"IF(G335=\"\",\"\",\"0.606/3\")","v":""},null,{"$f":"IF(ROUNDDOWN(I339*0.202,-3)>=150000,150000,ROUNDDOWN(I339*0.202,-3))","v":0}]
[null,""]
[{"$f":"(50+$B341)-$A$40","v":84},34,null,null,"事\n業\n場\n34","申請時の補助対象経費",null,null,null,null,null,null,null,null,null,null,null,null,"様式第２で事業場毎に記載されている補助対象経費を記載"]
[84,34,null,null,null,"申請\n機器","対象経費の金額\n（購入したスキャンツールの金額）",null,null,null,null,"販売店負担振込み手数料",null,null,null,null,null,null,"・対象経費の金額（購入したスキャンツールの金額）\n　納品書等のスキャンツール１台分の金額を入力して下さい\n\n・販売店負担振込み手数料\n　販売店負担の場合のみ振込み手数料の金額を入力して下さい\n　※事業者が振込み手数料を負担した場合は記載不要です"]
[84,34]
[84,34,null,null,null,"１台目"]
[84,34,null,null,null,"２台目"]
[84,34,null,null,null,"３台目"]
[84,34,null,null,null,"補助対象経費の実績額",null,null,"補助対象経費",null,null,"補助率",null,"補助金の額"]
[84,34,null,null,null,{"$f":"(G344-L344)+(G345-L345)+(G346-L346)","v":0},null,null,{"$f":"MIN(L341,F348)","v":0},null,null,{"$f":"IF(G344=\"\",\"\",\"0.606/3\")","v":""},null,{"$f":"IF(ROUNDDOWN(I348*0.202,-3)>=150000,150000,ROUNDDOWN(I348*0.202,-3))","v":0}]
[null,""]
[{"$f":"(50+$B350)-$A$40","v":85},35,null,null,"事\n業\n場\n35","申請時の補助対象経費",null,null,null,null,null,null,null,null,null,null,null,null,"様式第２で事業場毎に記載されている補助対象経費を記載"]
[85,35,null,null,null,"申請\n機器","対象経費の金額\n（購入したスキャンツールの金額）",null,null,null,null,"販売店負担振込み手数料",null,null,null,null,null,null,"・対象経費の金額（購入したスキャンツールの金額）\n　納品書等のスキャンツール１台分の金額を入力して下さい\n\n・販売店負担振込み手数料\n　販売店負担の場合のみ振込み手数料の金額を入力して下さい\n　※事業者が振込み手数料を負担した場合は記載不要です"]
[85,35]
[85,35,null,null,null,"１台目"]
[85,35,null,null,null,"２台目"]
[85,35,null,null,null,"３台目"]
[85,35,null,null,null,"補助対象経費の実績額",null,null,"補助対象経費",null,null,"補助率",null,"補助金の額"]
[85,35,null,null,null,{"$f":"(G353-L353)+(G354-L354)+(G355-L355)","v":0},null,null,{"$f":"MIN(L350,F357)","v":0},null,null,{"$f":"IF(G353=\"\",\"\",\"0.606/3\")","v":""},null,{"$f":"IF(ROUNDDOWN(I357*0.202,-3)>=150000,150000,ROUNDDOWN(I357*0.202,-3))","v":0}]
[null,""]
[{"$f":"(50+$B359)-$A$40","v":86},36,null,null,"事\n業\n場\n36","申請時の補助対象経費",null,null,null,null,null,null,null,null,null,null,null,null,"様式第２で事業場毎に記載されている補助対象経費を記載"]
[86,36,null,null,null,"申請\n機器","対象経費の金額\n（購入したスキャンツールの金額）",null,null,null,null,"販売店負担振込み手数料",null,null,null,null,null,null,"・対象経費の金額（購入したスキャンツールの金額）\n　納品書等のスキャンツール１台分の金額を入力して下さい\n\n・販売店負担振込み手数料\n　販売店負担の場合のみ振込み手数料の金額を入力して下さい\n　※事業者が振込み手数料を負担した場合は記載不要です"]
[86,36]
[86,36,null,null,null,"１台目"]
[86,36,null,null,null,"２台目"]
[86,36,null,null,null,"３台目"]
[86,36,null,null,null,"補助対象経費の実績額",null,null,"補助対象経費",null,null,"補助率",null,"補助金の額"]
[86,36,null,null,null,{"$f":"(G362-L362)+(G363-L363)+(G364-L364)","v":0},null,null,{"$f":"MIN(L359,F366)","v":0},null,null,{"$f":"IF(G362=\"\",\"\",\"0.606/3\")","v":""},null,{"$f":"IF(ROUNDDOWN(I366*0.202,-3)>=150000,150000,ROUNDDOWN(I366*0.202,-3))","v":0}]
[null,""]
[{"$f":"(50+$B368)-$A$40","v":87},37,null,null,"事\n業\n場\n37","申請時の補助対象経費",null,null,null,null,null,null,null,null,null,null,null,null,"様式第２で事業場毎に記載されている補助対象経費を記載"]
[87,37,null,null,null,"申請\n機器","対象経費の金額\n（購入したスキャンツールの金額）",null,null,null,null,"販売店負担振込み手数料",null,null,null,null,null,null,"・対象経費の金額（購入したスキャンツールの金額）\n　納品書等のスキャンツール１台分の金額を入力して下さい\n\n・販売店負担振込み手数料\n　販売店負担の場合のみ振込み手数料の金額を入力して下さい\n　※事業者が振込み手数料を負担した場合は記載不要です"]
[87,37]
[87,37,null,null,null,"１台目"]
[87,37,null,null,null,"２台目"]
[87,37,null,null,null,"３台目"]
[87,37,null,null,null,"補助対象経費の実績額",null,null,"補助対象経費",null,null,"補助率",null,"補助金の額"]
[87,37,null,null,null,{"$f":"(G371-L371)+(G372-L372)+(G373-L373)","v":0},null,null,{"$f":"MIN(L368,F375)","v":0},null,null,{"$f":"IF(G371=\"\",\"\",\"0.606/3\")","v":""},null,{"$f":"IF(ROUNDDOWN(I375*0.202,-3)>=150000,150000,ROUNDDOWN(I375*0.202,-3))","v":0}]
[null,""]
[{"$f":"(50+$B377)-$A$40","v":88},38,null,null,"事\n業\n場\n38","申請時の補助対象経費",null,null,null,null,null,null,null,null,null,null,null,null,"様式第２で事業場毎に記載されている補助対象経費を記載"]
[88,38,null,null,null,"申請\n機器","対象経費の金額\n（購入したスキャンツールの金額）",null,null,null,null,"販売店負担振込み手数料",null,null,null,null,null,null,"・対象経費の金額（購入したスキャンツールの金額）\n　納品書等のスキャンツール１台分の金額を入力して下さい\n\n・販売店負担振込み手数料\n　販売店負担の場合のみ振込み手数料の金額を入力して下さい\n　※事業者が振込み手数料を負担した場合は記載不要です"]
[88,38]
[88,38,null,null,null,"１台目"]
[88,38,null,null,null,"２台目"]
[88,38,null,null,null,"３台目"]
[88,38,null,null,null,"補助対象経費の実績額",null,null,"補助対象経費",null,null,"補助率",null,"補助金の額"]
[88,38,null,null,null,{"$f":"(G380-L380)+(G381-L381)+(G382-L382)","v":0},null,null,{"$f":"MIN(L377,F384)","v":0},null,null,{"$f":"IF(G380=\"\",\"\",\"0.606/3\")","v":""},null,{"$f":"IF(ROUNDDOWN(I384*0.202,-3)>=150000,150000,ROUNDDOWN(I384*0.202,-3))","v":0}]
[null,""]
[{"$f":"(50+$B386)-$A$40","v":89},39,null,null,"事\n業\n場\n39","申請時の補助対象経費",null,null,null,null,null,null,null,null,null,null,null,null,"様式第２で事業場毎に記載されている補助対象経費を記載"]
[89,39,null,null,null,"申請\n機器","対象経費の金額\n（購入したスキャンツールの金額）",null,null,null,null,"販売店負担振込み手数料",null,null,null,null,null,null,"・対象経費の金額（購入したスキャンツールの金額）\n　納品書等のスキャンツール１台分の金額を入力して下さい\n\n・販売店負担振込み手数料\n　販売店負担の場合のみ振込み手数料の金額を入力して下さい\n　※事業者が振込み手数料を負担した場合は記載不要です"]
[89,39]
[89,39,null,null,null,"１台目"]
[89,39,null,null,null,"２台目"]
[89,39,null,null,null,"３台目"]
[89,39,null,null,null,"補助対象経費の実績額",null,null,"補助対象経費",null,null,"補助率",null,"補助金の額"]
[89,39,null,null,null,{"$f":"(G389-L389)+(G390-L390)+(G391-L391)","v":0},null,null,{"$f":"MIN(L386,F393)","v":0},null,null,{"$f":"IF(G389=\"\",\"\",\"0.606/3\")","v":""},null,{"$f":"IF(ROUNDDOWN(I393*0.202,-3)>=150000,150000,ROUNDDOWN(I393*0.202,-3))","v":0}]
[null,""]
[{"$f":"(50+$B395)-$A$40","v":90},40,null,null,"事\n業\n場\n40","申請時の補助対象経費",null,null,null,null,null,null,null,null,null,null,null,null,"様式第２で事業場毎に記載されている補助対象経費を記載"]
[90,40,null,null,null,"申請\n機器","対象経費の金額\n（購入したスキャンツールの金額）",null,null,null,null,"販売店負担振込み手数料",null,null,null,null,null,null,"・対象経費の金額（購入したスキャンツールの金額）\n　納品書等のスキャンツール１台分の金額を入力して下さい\n\n・販売店負担振込み手数料\n　販売店負担の場合のみ振込み手数料の金額を入力して下さい\n　※事業者が振込み手数料を負担した場合は記載不要です"]
[90,40]
[90,40,null,null,null,"１台目"]
[90,40,null,null,null,"２台目"]
[90,40,null,null,null,"３台目"]
[90,40,null,null,null,"補助対象経費の実績額",null,null,"補助対象経費",null,null,"補助率",null,"補助金の額"]
[90,40,null,null,null,{"$f":"(G398-L398)+(G399-L399)+(G400-L400)","v":0},null,null,{"$f":"MIN(L395,F402)","v":0},null,null,{"$f":"IF(G398=\"\",\"\",\"0.606/3\")","v":""},null,{"$f":"IF(ROUNDDOWN(I402*0.202,-3)>=150000,150000,ROUNDDOWN(I402*0.202,-3))","v":0}]
[null,""]
[{"$f":"(50+$B404)-$A$40","v":91},41,null,null,"事\n業\n場\n41","申請時の補助対象経費",null,null,null,null,null,null,null,null,null,null,null,null,"様式第２で事業場毎に記載されている補助対象経費を記載"]
[91,41,null,null,null,"申請\n機器","対象経費の金額\n（購入したスキャンツールの金額）",null,null,null,null,"販売店負担振込み手数料",null,null,null,null,null,null,"・対象経費の金額（購入したスキャンツールの金額）\n　納品書等のスキャンツール１台分の金額を入力して下さい\n\n・販売店負担振込み手数料\n　販売店負担の場合のみ振込み手数料の金額を入力して下さい\n　※事業者が振込み手数料を負担した場合は記載不要です"]
[91,41]
[91,41,null,null,null,"１台目"]
[91,41,null,null,null,"２台目"]
[91,41,null,null,null,"３台目"]
[91,41,null,null,null,"補助対象経費の実績額",null,null,"補助対象経費",null,null,"補助率",null,"補助金の額"]
[91,41,null,null,null,{"$f":"(G407-L407)+(G408-L408)+(G409-L409)","v":0},null,null,{"$f":"MIN(L404,F411)","v":0},null,null,{"$f":"IF(G407=\"\",\"\",\"0.606/3\")","v":""},null,{"$f":"IF(ROUNDDOWN(I411*0.202,-3)>=150000,150000,ROUNDDOWN(I411*0.202,-3))","v":0}]
[null,""]
[{"$f":"(50+$B413)-$A$40","v":92},42,null,null,"事\n業\n場\n42","申請時の補助対象経費",null,null,null,null,null,null,null,null,null,null,null,null,"様式第２で事業場毎に記載されている補助対象経費を記載"]
[92,42,null,null,null,"申請\n機器","対象経費の金額\n（購入したスキャンツールの金額）",null,null,null,null,"販売店負担振込み手数料",null,null,null,null,null,null,"・対象経費の金額（購入したスキャンツールの金額）\n　納品書等のスキャンツール１台分の金額を入力して下さい\n\n・販売店負担振込み手数料\n　販売店負担の場合のみ振込み手数料の金額を入力して下さい\n　※事業者が振込み手数料を負担した場合は記載不要です"]
[92,42]
[92,42,null,null,null,"１台目"]
[92,42,null,null,null,"２台目"]
[92,42,null,null,null,"３台目"]
[92,42,null,null,null,"補助対象経費の実績額",null,null,"補助対象経費",null,null,"補助率",null,"補助金の額"]
[92,42,null,null,null,{"$f":"(G416-L416)+(G417-L417)+(G418-L418)","v":0},null,null,{"$f":"MIN(L413,F420)","v":0},null,null,{"$f":"IF(G416=\"\",\"\",\"0.606/3\")","v":""},null,{"$f":"IF(ROUNDDOWN(I420*0.202,-3)>=150000,150000,ROUNDDOWN(I420*0.202,-3))","v":0}]
[null,""]
[{"$f":"(50+$B422)-$A$40","v":93},43,null,null,"事\n業\n場\n43","申請時の補助対象経費",null,null,null,null,null,null,null,null,null,null,null,null,"様式第２で事業場毎に記載されている補助対象経費を記載"]
[93,43,null,null,null,"申請\n機器","対象経費の金額\n（購入したスキャンツールの金額）",null,null,null,null,"販売店負担振込み手数料",null,null,null,null,null,null,"・対象経費の金額（購入したスキャンツールの金額）\n　納品書等のスキャンツール１台分の金額を入力して下さい\n\n・販売店負担振込み手数料\n　販売店負担の場合のみ振込み手数料の金額を入力して下さい\n　※事業者が振込み手数料を負担した場合は記載不要です"]
[93,43]
[93,43,null,null,null,"１台目"]
[93,43,null,null,null,"２台目"]
[93,43,null,null,null,"３台目"]
[93,43,null,null,null,"補助対象経費の実績額",null,null,"補助対象経費",null,null,"補助率",null,"補助金の額"]
[93,43,null,null,null,{"$f":"(G425-L425)+(G426-L426)+(G427-L427)","v":0},null,null,{"$f":"MIN(L422,F429)","v":0},null,null,{"$f":"IF(G425=\"\",\"\",\"0.606/3\")","v":""},null,{"$f":"IF(ROUNDDOWN(I429*0.202,-3)>=150000,150000,ROUNDDOWN(I429*0.202,-3))","v":0}]
[null,""]
[{"$f":"(50+$B431)-$A$40","v":94},44,null,null,"事\n業\n場\n44","申請時の補助対象経費",null,null,null,null,null,null,null,null,null,null,null,null,"様式第２で事業場毎に記載されている補助対象経費を記載"]
[94,44,null,null,null,"申請\n機器","対象経費の金額\n（購入したスキャンツールの金額）",null,null,null,null,"販売店負担振込み手数料",null,null,null,null,null,null,"・対象経費の金額（購入したスキャンツールの金額）\n　納品書等のスキャンツール１台分の金額を入力して下さい\n\n・販売店負担振込み手数料\n　販売店負担の場合のみ振込み手数料の金額を入力して下さい\n　※事業者が振込み手数料を負担した場合は記載不要です"]
[94,44]
[94,44,null,null,null,"１台目"]
[94,44,null,null,null,"２台目"]
[94,44,null,null,null,"３台目"]
[94,44,null,null,null,"補助対象経費の実績額",null,null,"補助対象経費",null,null,"補助率",null,"補助金の額"]
[94,44,null,null,null,{"$f":"(G434-L434)+(G435-L435)+(G436-L436)","v":0},null,null,{"$f":"MIN(L431,F438)","v":0},null,null,{"$f":"IF(G434=\"\",\"\",\"0.606/3\")","v":""},null,{"$f":"IF(ROUNDDOWN(I438*0.202,-3)>=150000,150000,ROUNDDOWN(I438*0.202,-3))","v":0}]
[null,""]
[{"$f":"(50+$B440)-$A$40","v":95},45,null,null,"事\n業\n場\n45","申請時の補助対象経費",null,null,null,null,null,null,null,null,null,null,null,null,"様式第２で事業場毎に記載されている補助対象経費を記載"]
[95,45,null,null,null,"申請\n機器","対象経費の金額\n（購入したスキャンツールの金額）",null,null,null,null,"販売店負担振込み手数料",null,null,null,null,null,null,"・対象経費の金額（購入したスキャンツールの金額）\n　納品書等のスキャンツール１台分の金額を入力して下さい\n\n・販売店負担振込み手数料\n　販売店負担の場合のみ振込み手数料の金額を入力して下さい\n　※事業者が振込み手数料を負担した場合は記載不要です"]
[95,45]
[95,45,null,null,null,"１台目"]
[95,45,null,null,null,"２台目"]
[95,45,null,null,null,"３台目"]
[95,45,null,null,null,"補助対象経費の実績額",null,null,"補助対象経費",null,null,"補助率",null,"補助金の額"]
[95,45,null,null,null,{"$f":"(G443-L443)+(G444-L444)+(G445-L445)","v":0},null,null,{"$f":"MIN(L440,F447)","v":0},null,null,{"$f":"IF(G443=\"\",\"\",\"0.606/3\")","v":""},null,{"$f":"IF(ROUNDDOWN(I447*0.202,-3)>=150000,150000,ROUNDDOWN(I447*0.202,-3))","v":0}]
[null,""]
[{"$f":"(50+$B449)-$A$40","v":96},46,null,null,"事\n業\n場\n46","申請時の補助対象経費",null,null,null,null,null,null,null,null,null,null,null,null,"様式第２で事業場毎に記載されている補助対象経費を記載"]
[96,46,null,null,null,"申請\n機器","対象経費の金額\n（購入したスキャンツールの金額）",null,null,null,null,"販売店負担振込み手数料",null,null,null,null,null,null,"・対象経費の金額（購入したスキャンツールの金額）\n　納品書等のスキャンツール１台分の金額を入力して下さい\n\n・販売店負担振込み手数料\n　販売店負担の場合のみ振込み手数料の金額を入力して下さい\n　※事業者が振込み手数料を負担した場合は記載不要です"]
[96,46]
[96,46,null,null,null,"１台目"]
[96,46,null,null,null,"２台目"]
[96,46,null,null,null,"３台目"]
[96,46,null,null,null,"補助対象経費の実績額",null,null,"補助対象経費",null,null,"補助率",null,"補助金の額"]
[96,46,null,null,null,{"$f":"(G452-L452)+(G453-L453)+(G454-L454)","v":0},null,null,{"$f":"MIN(L449,F456)","v":0},null,null,{"$f":"IF(G452=\"\",\"\",\"0.606/3\")","v":""},null,{"$f":"IF(ROUNDDOWN(I456*0.202,-3)>=150000,150000,ROUNDDOWN(I456*0.202,-3))","v":0}]
[null,""]
[{"$f":"(50+$B458)-$A$40","v":97},47,null,null,"事\n業\n場\n47","申請時の補助対象経費",null,null,null,null,null,null,null,null,null,null,null,null,"様式第２で事業場毎に記載されている補助対象経費を記載"]
[97,47,null,null,null,"申請\n機器","対象経費の金額\n（購入したスキャンツールの金額）",null,null,null,null,"販売店負担振込み手数料",null,null,null,null,null,null,"・対象経費の金額（購入したスキャンツールの金額）\n　納品書等のスキャンツール１台分の金額を入力して下さい\n\n・販売店負担振込み手数料\n　販売店負担の場合のみ振込み手数料の金額を入力して下さい\n　※事業者が振込み手数料を負担した場合は記載不要です"]
[97,47]
[97,47,null,null,null,"１台目"]
[97,47,null,null,null,"２台目"]
[97,47,null,null,null,"３台目"]
[97,47,null,null,null,"補助対象経費の実績額",null,null,"補助対象経費",null,null,"補助率",null,"補助金の額"]
[97,47,null,null,null,{"$f":"(G461-L461)+(G462-L462)+(G463-L463)","v":0},null,null,{"$f":"MIN(L458,F465)","v":0},null,null,{"$f":"IF(G461=\"\",\"\",\"0.606/3\")","v":""},null,{"$f":"IF(ROUNDDOWN(I465*0.202,-3)>=150000,150000,ROUNDDOWN(I465*0.202,-3))","v":0}]
[null,""]
[{"$f":"(50+$B467)-$A$40","v":98},48,null,null,"事\n業\n場\n48","申請時の補助対象経費",null,null,null,null,null,null,null,null,null,null,null,null,"様式第２で事業場毎に記載されている補助対象経費を記載"]
[98,48,null,null,null,"申請\n機器","対象経費の金額\n（購入したスキャンツールの金額）",null,null,null,null,"販売店負担振込み手数料",null,null,null,null,null,null,"・対象経費の金額（購入したスキャンツールの金額）\n　納品書等のスキャンツール１台分の金額を入力して下さい\n\n・販売店負担振込み手数料\n　販売店負担の場合のみ振込み手数料の金額を入力して下さい\n　※事業者が振込み手数料を負担した場合は記載不要です"]
[98,48]
[98,48,null,null,null,"１台目"]
[98,48,null,null,null,"２台目"]
[98,48,null,null,null,"３台目"]
[98,48,null,null,null,"補助対象経費の実績額",null,null,"補助対象経費",null,null,"補助率",null,"補助金の額"]
[98,48,null,null,null,{"$f":"(G470-L470)+(G471-L471)+(G472-L472)","v":0},null,null,{"$f":"MIN(L467,F474)","v":0},null,null,{"$f":"IF(G470=\"\",\"\",\"0.606/3\")","v":""},null,{"$f":"IF(ROUNDDOWN(I474*0.202,-3)>=150000,150000,ROUNDDOWN(I474*0.202,-3))","v":0}]
[null,""]
[{"$f":"(50+$B476)-$A$40","v":99},49,null,null,"事\n業\n場\n49","申請時の補助対象経費",null,null,null,null,null,null,null,null,null,null,null,null,"様式第２で事業場毎に記載されている補助対象経費を記載"]
[99,49,null,null,null,"申請\n機器","対象経費の金額\n（購入したスキャンツールの金額）",null,null,null,null,"販売店負担振込み手数料",null,null,null,null,null,null,"・対象経費の金額（購入したスキャンツールの金額）\n　納品書等のスキャンツール１台分の金額を入力して下さい\n\n・販売店負担振込み手数料\n　販売店負担の場合のみ振込み手数料の金額を入力して下さい\n　※事業者が振込み手数料を負担した場合は記載不要です"]
[99,49]
[99,49,null,null,null,"１台目"]
[99,49,null,null,null,"２台目"]
[99,49,null,null,null,"３台目"]
[99,49,null,null,null,"補助対象経費の実績額",null,null,"補助対象経費",null,null,"補助率",null,"補助金の額"]
[99,49,null,null,null,{"$f":"(G479-L479)+(G480-L480)+(G481-L481)","v":0},null,null,{"$f":"MIN(L476,F483)","v":0},null,null,{"$f":"IF(G479=\"\",\"\",\"0.606/3\")","v":""},null,{"$f":"IF(ROUNDDOWN(I483*0.202,-3)>=150000,150000,ROUNDDOWN(I483*0.202,-3))","v":0}]
[null,""]
[{"$f":"(50+$B485)-$A$40","v":100},50,null,null,"事\n業\n場\n50","申請時の補助対象経費",null,null,null,null,null,null,null,null,null,null,null,null,"様式第２で事業場毎に記載されている補助対象経費を記載"]
[100,50,null,null,null,"申請\n機器","対象経費の金額\n（購入したスキャンツールの金額）",null,null,null,null,"販売店負担振込み手数料",null,null,null,null,null,null,"・対象経費の金額（購入したスキャンツールの金額）\n　納品書等のスキャンツール１台分の金額を入力して下さい\n\n・販売店負担振込み手数料\n　販売店負担の場合のみ振込み手数料の金額を入力して下さい\n　※事業者が振込み手数料を負担した場合は記載不要です"]
[100,50]
[100,50,null,null,null,"１台目"]
[100,50,null,null,null,"２台目"]
[100,50,null,null,null,"３台目"]
[100,50,null,null,null,"補助対象経費の実績額",null,null,"補助対象経費",null,null,"補助率",null,"補助金の額"]
[100,50,null,null,null,{"$f":"(G488-L488)+(G489-L489)+(G490-L490)","v":0},null,null,{"$f":"MIN(L485,F492)","v":0},null,null,{"$f":"IF(G488=\"\",\"\",\"0.606/3\")","v":""},null,{"$f":"IF(ROUNDDOWN(I492*0.202,-3)>=150000,150000,ROUNDDOWN(I492*0.202,-3))","v":0}]

{"sheet":"リンク貼付用シート","index":2,"n_rows":20,"n_cols":29,"rows_kept":20,"cut":false,"hidden":true,"merged":[[1,6,2,6],[1,8,2,8],[1,1,2,1],[1,2,2,2],[1,3,2,3],[1,4,2,4],[1,5,2,5],[1,22,2,23],[1,25,2,26],[1,28,2,29],[3,22,3,23],[3,25,3,26],[3,28,3,29]]}
[]
[null,"1.申請者情報","２．本補助事業実績\n報告に係る連絡先","３．通知書送付方法","４．様式関連","５．申請した事業場","事業場１",null,"必須項目入力チェック",null,null,"←様式第９に関連する項目",null,null,null,"←様式第９別紙に関連する項目",null,null,null,"←入力不要の項目",null,null,"補助対象経費\nの実績額合計",null,null,"補助対象\n経費合計",null,null,"補助金の額\n合計"]
[]
[null,{"$f":"\"残り\"&B5&\"項目\"","v":"残り11項目"},{"$f":"\"残り\"&C5&\"項目\"","v":"残り6項目"},"残り0項目","残り4項目","残り1項目","残り2項目",{"$f":"SUM(B5:G5)","v":24},{"$f":"IF(H4=0,\"必須項目が全て入力されています\",\"必須項目が\"&H4&\"項目未入力です\")","v":"必須項目が24項目未入力です"},null,null,null,null,null,null,null,null,null,null,null,null,null,{"$f":"入力シート!F51+入力シート!F60+入力シート!F69+入力シート!F78+入力シート!F87+入力シート!F96+入力シート!F105+入力シート!F114+入力シート!F123+入力シート!F132+入力シート!F141+入力シート!F150+入力シート!F159+入力シート!F168+入力シート!F177+入力シート!F186+入力シート!F195+入力シート!F204+入力シート!F213+入力シート!F222+入力シート!F231+入力シート!F240+入力シート!F249+入力シート!F258+入力シート!F267+入力シート!F276+入力シート!F285+入力シート!F294+入力シート!F303+入力シート!F312+入力シート!F321+入力シート!F330+入力シート!F339+入力シート!F348+入力シート!F357+入力シート!F366+入力シート!F375+入力シート!F384+入力シート!F393+入力シート!F402+入力シート!F411+入力シート!F420+入力シート!F429+入力シート!F438+入力シート!F447+入力シート!F456+入力シート!F465+入力シート!F474+入力シート!F483+入力シート!F492","v":0},null,null,{"$f":"入力シート!I51+入力シート!I60+入力シート!I69+入力シート!I78+入力シート!I87+入力シート!I96+入力シート!I105+入力シート!I114+入力シート!I123+入力シート!I132+入力シート!I141+入力シート!I150+入力シート!I159+入力シート!I168+入力シート!I177+入力シート!I186+入力シート!I195+入力シート!I204+入力シート!I213+入力シート!I222+入力シート!I231+入力シート!I240+入力シート!I249+入力シート!I258+入力シート!I267+入力シート!I276+入力シート!I285+入力シート!I294+入力シート!I312+入力シート!I321+入力シート!I330+入力シート!I339+入力シート!I348+入力シート!I357+入力シート!I366+入力シート!I375+入力シート!I384+入力シート!I393+入力シート!I402+入力シート!I411+入力シート!I420+入力シート!I429+入力シート!I438+入力シート!I447+入力シート!I456+入力シート!I465+入力シート!I474+入力シート!I483+入力シート!I492+入力シート!I303","v":0},null,null,{"$f":"入力シート!N51+入力シート!N60+入力シート!N69+入力シート!N78+入力シート!N87+入力シート!N96+入力シート!N105+入力シート!N114+入力シート!N123+入力シート!N132+入力シート!N141+入力シート!N150+入力シート!N159+入力シート!N168+入力シート!N177+入力シート!N186+入力シート!N195+入力シート!N204+入力シート!N213+入力シート!N222+入力シート!N231+入力シート!N240+入力シート!N249+入力シート!N258+入力シート!N267+入力シート!N276+入力シート!N285+入力シート!N294+入力シート!N303+入力シート!N312+入力シート!N321+入力シート!N330+入力シート!N339+入力シート!N348+入力シート!N357+入力シート!N366+入力シート!N375+入力シート!N384+入力シート!N393+入力シート!N402+入力シート!N411+入力シート!N420+入力シート!N429+入力シート!N438+入力シート!N447+入力シート!N456+入力シート!N465+入力シート!N474+入力シート!N483+入力シート!N492","v":0}]
[null,{"$f":"10-COUNTA(入力シート!$L$7,入力シート!$N$7,入力シート!$P$7,入力シート!$J$9,入力シート!$J$11,入力シート!$J$12,入力シート!$O$12,入力シート!$J$14,入力シート!$O$14,入力シート!$J$15)+IF(入力シート!$J$11<>2,COUNTBLANK(入力シート!$J$13),0)","v":11},{"$f":"6-COUNTA(入力シート!$J$19,入力シート!$O$19,入力シート!$J$21,入力シート!$M$21,入力シート!$P$21,入力シート!$J$23)","v":6},{"$f":"COUNTBLANK(入力シート!$J$26)+IF(AND(入力シート!$J$26<>1,入力シート!$J$26<>2),3-COUNTA(入力シート!$J$29,入力シート!$O$29,入力シート!$J$30),0)","v":0},{"$f":"4-COUNTA(入力シート!$J$35,入力シート!$L$36,入力シート!$N$36,入力シート!$P$36)","v":4},{"$f":"COUNTBLANK(入力シート!$J$40)","v":1},{"$f":"2-COUNTA(入力シート!$L$44,入力シート!$G$47)","v":2}]
[]
[null,"↓↓必須カウント項目"]
[null,"書類作成日1","担当者氏名姓","送付方法","交付決定番号","申請合計事業場数","申請時の補助対象経費"]
[null,"書類作成日2","担当者氏名名",null,"交付決定日１",null,"対象経費の金額１"]
[null,"書類作成日3","電話１","※空欄、3の時","交付決定日２"]
[null,"法人名（個人事業主の場合は\n商号・屋号等）","電話２","郵便番号","交付決定日３"]
[null,"法人・個人事業主の選択","電話３","都道府県"]
[null,"代表者氏名　姓","E-mail","市区町村"]
[null,"代表者氏名　名"]
[null,"郵便番号"]
[null,"都道府県"]
[null,"市区町村"]
[]
[null,"※個人事業主以外の時"]
[null,"役職"]

{"sheet":"都道府県シート","index":3,"n_rows":48,"n_cols":1,"rows_kept":48,"cut":false,"hidden":true,"merged":[]}
["都道府県"]
["北海道"]
["青森県"]
["岩手県"]
["宮城県"]
["秋田県"]
["山形県"]
["福島県"]
["茨城県"]
["栃木県"]
["群馬県"]
["埼玉県"]
["千葉県"]
["東京都"]
["神奈川県"]
["新潟県"]
["富山県"]
["石川県"]
["福井県"]
["山梨県"]
["長野県"]
["岐阜県"]
["静岡県"]
["愛知県"]
["三重県"]
["滋賀県"]
["京都府"]
["大阪府"]
["兵庫県"]
["奈良県"]
["和歌山県"]
["鳥取県"]
["島根県"]
["岡山県"]
["広島県"]
["山口県"]
["徳島県"]
["香川県"]
["愛媛県"]
["高知県"]
["福岡県"]
["佐賀県"]
["長崎県"]
["熊本県"]
["大分県"]
["宮崎県"]
["鹿児島県"]
["沖縄県"]

{"sheet":"中間シート","index":4,"n_rows":236,"n_cols":9,"rows_kept":236,"cut":false,"hidden":true,"merged":[]}
["非表示シート","入力欄はブルー","Ver.2"]
["DBへの取り込み可否","該当項目","入力項目","入力欄"]
["✕(DB内の情報と一致するかの確認は必要)","申請合計事業場数","申請合計事業場数",{"$f":"入力シート!J40","v":0}]
["〇","申請者情報","法人名（個人事業主の場合は商号・屋号等）",{"$f":"入力シート!J9&\"\"","v":""}]
["〇","申請者情報","法人は「1」を個人事業主は「2」を入力",{"$f":"入力シート!J11","v":0}]
["〇","申請者情報","代表者氏名　姓",{"$f":"入力シート!J12&\"\"","v":""}]
["〇","申請者情報","代表者氏名　名",{"$f":"入力シート!O12&\"\"","v":""}]
["〇","申請者情報","代表者役職",{"$f":"入力シート!J13&\"\"","v":""}]
["〇","申請者情報","送付先郵便番号",{"$f":"入力シート!J14&\"\"","v":""}]
["〇","申請者情報","都道府県",{"$f":"入力シート!O14&\"\"","v":""}]
["〇","申請者情報","市区町村",{"$f":"入力シート!J15&\"\"","v":""}]
["〇","申請者情報","番地",{"$f":"入力シート!O15&\"\"","v":""}]
["〇","申請者情報","建物名称",{"$f":"入力シート!J16&\"\"","v":""}]
["〇","本補助事業実績報告に係る連絡先","担当者氏名　姓",{"$f":"入力シート!J19&\"\"","v":""}]
["〇","本補助事業実績報告に係る連絡先","担当者氏名　名",{"$f":"入力シート!O19&\"\"","v":""}]
["〇","本補助事業実績報告に係る連絡先","担当部署",{"$f":"入力シート!J20&\"\"","v":""}]
["〇","本補助事業実績報告に係る連絡先","担当者役職",{"$f":"入力シート!O20&\"\"","v":""}]
["〇","本補助事業実績報告に係る連絡先","電話",{"$f":"入力シート!J21&\"\"","v":""},{"$f":"入力シート!M21&\"\"","v":""},{"$f":"入力シート!P21&\"\"","v":""}]
["〇","本補助事業実績報告に係る連絡先","FAX",{"$f":"入力シート!J22&\"\"","v":""},{"$f":"入力シート!M22&\"\"","v":""},{"$f":"入力シート!P22&\"\"","v":""}]
["〇","本補助事業実績報告に係る連絡先","メール",{"$f":"入力シート!J23&\"\"","v":""}]
["〇","送付方法","メール送付を希望する場合は「1」\n会社所在地への郵送を希望する場合は「2」\n会社所在地以外の住所へ郵送を希望する場合は「3」を入力",{"$f":"入力シート!J26","v":1}]
["〇","通知書等送付先","送付先法人名・屋号等",{"$f":"IF($D$21=1,\"\",IF($D$21=2,D4,入力シート!J28))&\"\"","v":""}]
["〇","通知書等送付先","送付先郵便番号",{"$f":"IF($D$21=1,\"\",IF($D$21=2,$D9,入力シート!J29))&\"\"","v":""}]
["〇","通知書等送付先","送付先都道府県",{"$f":"IF($D$21=1,\"\",IF($D$21=2,D10,入力シート!O29))&\"\"","v":""}]
["〇","通知書等送付先","送付先市区町村",{"$f":"IF($D$21=1,\"\",IF($D$21=2,D11,入力シート!J30))&\"\"","v":""}]
["〇","通知書等送付先","送付先番地",{"$f":"IF($D$21=1,\"\",IF($D$21=2,D12,入力シート!O30))&\"\"","v":""}]
["〇","通知書等送付先","送付先建物名称",{"$f":"IF($D$21=1,\"\",IF($D$21=2,D13,入力シート!J31))&\"\"","v":""}]
["〇","様式１","様式第９の文書番号",{"$f":"入力シート!J34&\"\"","v":""}]
["〇","様式１","様式第９作成日",{"$f":"入力シート!L7&\"\"","v":""},{"$f":"入力シート!N7&\"\"","v":""},{"$f":"入力シート!P7&\"\"","v":""}]
["✕(DB内の情報と一致するかの確認は必要)","様式１","交付決定番号",{"$f":"入力シート!J35&\"\"","v":""}]
["✕(DB内の情報と一致するかの確認は必要)","様式１","交付決定年月日",{"$f":"入力シート!L36&\"\"","v":""},{"$f":"入力シート!N36&\"\"","v":""},{"$f":"入力シート!P36&\"\"","v":""}]
["〇","様式１","事業完了年月日",{"$f":"入力シート!L37&\"\"","v":""},{"$f":"入力シート!N37&\"\"","v":""},{"$f":"入力シート!P37&\"\"","v":""}]
[]
[null,"補助対象スキャンツールを設置する事業場","申請時の補助対象経費"]
["✕(DB内の情報と一致するかの確認は必要)","事業場１",{"$f":"入力シート!$L$44","v":0}]
["✕(DB内の情報と一致するかの確認は必要)","事業場２",{"$f":"入力シート!$L$53","v":0}]
["✕(DB内の情報と一致するかの確認は必要)","事業場３",{"$f":"入力シート!$L$62","v":0}]
["✕(DB内の情報と一致するかの確認は必要)","事業場４",{"$f":"入力シート!$L$71","v":0}]
["✕(DB内の情報と一致するかの確認は必要)","事業場５",{"$f":"入力シート!$L$80","v":0}]
["✕(DB内の情報と一致するかの確認は必要)","事業場６",{"$f":"入力シート!$L$89","v":0}]
["✕(DB内の情報と一致するかの確認は必要)","事業場７",{"$f":"入力シート!$L$98","v":0}]
["✕(DB内の情報と一致するかの確認は必要)","事業場８",{"$f":"入力シート!$L$107","v":0}]
["✕(DB内の情報と一致するかの確認は必要)","事業場９",{"$f":"入力シート!$L$116","v":0}]
["✕(DB内の情報と一致するかの確認は必要)","事業場１０",{"$f":"入力シート!$L$125","v":0}]
["✕(DB内の情報と一致するかの確認は必要)","事業場１１",{"$f":"入力シート!$L$134","v":0}]
["✕(DB内の情報と一致するかの確認は必要)","事業場１２",{"$f":"入力シート!$L$143","v":0}]
["✕(DB内の情報と一致するかの確認は必要)","事業場１３",{"$f":"入力シート!$L$152","v":0}]
["✕(DB内の情報と一致するかの確認は必要)","事業場１４",{"$f":"入力シート!$L$161","v":0}]
["✕(DB内の情報と一致するかの確認は必要)","事業場１５",{"$f":"入力シート!$L$170","v":0}]
["✕(DB内の情報と一致するかの確認は必要)","事業場１６",{"$f":"入力シート!$L$179","v":0}]
["✕(DB内の情報と一致するかの確認は必要)","事業場１７",{"$f":"入力シート!$L$188","v":0}]
["✕(DB内の情報と一致するかの確認は必要)","事業場１８",{"$f":"入力シート!$L$197","v":0}]
["✕(DB内の情報と一致するかの確認は必要)","事業場１９",{"$f":"入力シート!$L$206","v":0}]
["✕(DB内の情報と一致するかの確認は必要)","事業場２０",{"$f":"入力シート!$L$215","v":0}]
["✕(DB内の情報と一致するかの確認は必要)","事業場２１",{"$f":"入力シート!$L$224","v":0}]
["✕(DB内の情報と一致するかの確認は必要)","事業場２２",{"$f":"入力シート!$L$233","v":0}]
["✕(DB内の情報と一致するかの確認は必要)","事業場２３",{"$f":"入力シート!$L$242","v":0}]
["✕(DB内の情報と一致するかの確認は必要)","事業場２４",{"$f":"入力シート!$L$251","v":0}]
["✕(DB内の情報と一致するかの確認は必要)","事業場２５",{"$f":"入力シート!$L$260","v":0}]
["✕(DB内の情報と一致するかの確認は必要)","事業場２６",{"$f":"入力シート!$L$269","v":0}]
["✕(DB内の情報と一致するかの確認は必要)","事業場２７",{"$f":"入力シート!$L$278","v":0}]
["✕(DB内の情報と一致するかの確認は必要)","事業場２８",{"$f":"入力シート!$L$287","v":0}]
["✕(DB内の情報と一致するかの確認は必要)","事業場２９",{"$f":"入力シート!$L$296","v":0}]
["✕(DB内の情報と一致するかの確認は必要)","事業場３０",{"$f":"入力シート!$L$305","v":0}]
["✕(DB内の情報と一致するかの確認は必要)","事業場３１",{"$f":"入力シート!$L$314","v":0}]
["✕(DB内の情報と一致するかの確認は必要)","事業場３２",{"$f":"入力シート!$L$323","v":0}]
["✕(DB内の情報と一致するかの確認は必要)","事業場３３",{"$f":"入力シート!$L$332","v":0}]
["✕(DB内の情報と一致するかの確認は必要)","事業場３４",{"$f":"入力シート!$L$341","v":0}]
["✕(DB内の情報と一致するかの確認は必要)","事業場３５",{"$f":"入力シート!$L$350","v":0}]
["✕(DB内の情報と一致するかの確認は必要)","事業場３６",{"$f":"入力シート!$L$359","v":0}]
["✕(DB内の情報と一致するかの確認は必要)","事業場３７",{"$f":"入力シート!$L$368","v":0}]
["✕(DB内の情報と一致するかの確認は必要)","事業場３８",{"$f":"入力シート!$L$377","v":0}]
["✕(DB内の情報と一致するかの確認は必要)","事業場３９",{"$f":"入力シート!$L$386","v":0}]
["✕(DB内の情報と一致するかの確認は必要)","事業場４０",{"$f":"入力シート!$L$395","v":0}]
["✕(DB内の情報と一致するかの確認は必要)","事業場４１",{"$f":"入力シート!$L$404","v":0}]
["✕(DB内の情報と一致するかの確認は必要)","事業場４２",{"$f":"入力シート!$L$413","v":0}]
["✕(DB内の情報と一致するかの確認は必要)","事業場４３",{"$f":"入力シート!$L$422","v":0}]
["✕(DB内の情報と一致するかの確認は必要)","事業場４４",{"$f":"入力シート!$L$431","v":0}]
["✕(DB内の情報と一致するかの確認は必要)","事業場４５",{"$f":"入力シート!$L$440","v":0}]
["✕(DB内の情報と一致するかの確認は必要)","事業場４６",{"$f":"入力シート!$L$449","v":0}]
["✕(DB内の情報と一致するかの確認は必要)","事業場４７",{"$f":"入力シート!$L$458","v":0}]
["✕(DB内の情報と一致するかの確認は必要)","事業場４８",{"$f":"入力シート!$L$467","v":0}]
["✕(DB内の情報と一致するかの確認は必要)","事業場４９",{"$f":"入力シート!$L$476","v":0}]
["✕(DB内の情報と一致するかの確認は必要)","事業場５０",{"$f":"入力シート!$L$485","v":0}]
[null,null,null,null,null,null,"作業列"]
[null,"設備費（内訳）","対象経費の金額（購入したスキャンツールの金額）","販売店負担振込み手数料",null,null,"事業場","実績額","補助対象経費"]
["〇","事業場１　１台目",{"$f":"入力シート!$G$47","v":0},{"$f":"入力シート!$L$47","v":0},null,1,"事業場１",{"$f":"入力シート!$F$51","v":0},{"$f":"入力シート!$I$51","v":0}]
["〇","事業場１　２台目",{"$f":"入力シート!$G$48","v":0},{"$f":"入力シート!$L$48","v":0},null,2,"事業場２",{"$f":"入力シート!$F$60","v":0},{"$f":"入力シート!$I$60","v":0}]
["〇","事業場１　３台目",{"$f":"入力シート!$G$49","v":0},{"$f":"入力シート!$L$49","v":0},null,3,"事業場３",{"$f":"入力シート!$F$69","v":0},{"$f":"入力シート!$I$69","v":0}]
["〇","事業場２　１台目",{"$f":"入力シート!$G$56","v":0},{"$f":"入力シート!$L$56","v":0},null,4,"事業場４",{"$f":"入力シート!$F$78","v":0},{"$f":"入力シート!$I$78","v":0}]
["〇","事業場２　２台目",{"$f":"入力シート!$G$57","v":0},{"$f":"入力シート!$L$57","v":0},null,5,"事業場５",{"$f":"入力シート!$F$87","v":0},{"$f":"入力シート!$I$87","v":0}]
["〇","事業場２　３台目",{"$f":"入力シート!$G$58","v":0},{"$f":"入力シート!$L$58","v":0},null,6,"事業場６",{"$f":"入力シート!$F$96","v":0},{"$f":"入力シート!$I$96","v":0}]
["〇","事業場３　１台目",{"$f":"入力シート!$G$65","v":0},{"$f":"入力シート!$L$65","v":0},null,7,"事業場７",{"$f":"入力シート!$F$105","v":0},{"$f":"入力シート!$I$105","v":0}]
["〇","事業場３　２台目",{"$f":"入力シート!$G$66","v":0},{"$f":"入力シート!$L$66","v":0},null,8,"事業場８",{"$f":"入力シート!$F$114","v":0},{"$f":"入力シート!$I$114","v":0}]
["〇","事業場３　３台目",{"$f":"入力シート!$G$67","v":0},{"$f":"入力シート!$L$67","v":0},null,9,"事業場９",{"$f":"入力シート!$F$123","v":0},{"$f":"入力シート!$I$123","v":0}]
["〇","事業場４　１台目",{"$f":"入力シート!$G$74","v":0},{"$f":"入力シート!$L$74","v":0},null,10,"事業場１０",{"$f":"入力シート!$F$132","v":0},{"$f":"入力シート!$I$132","v":0}]
["〇","事業場４　２台目",{"$f":"入力シート!$G$75","v":0},{"$f":"入力シート!$L$75","v":0},null,11,"事業場１１",{"$f":"入力シート!$F$141","v":0},{"$f":"入力シート!$I$141","v":0}]
["〇","事業場４　３台目",{"$f":"入力シート!$G$76","v":0},{"$f":"入力シート!$L$76","v":0},null,12,"事業場１２",{"$f":"入力シート!$F$150","v":0},{"$f":"入力シート!$I$150","v":0}]
["〇","事業場５　１台目",{"$f":"入力シート!$G$83","v":0},{"$f":"入力シート!$L$83","v":0},null,13,"事業場１３",{"$f":"入力シート!$F$159","v":0},{"$f":"入力シート!$I$159","v":0}]
["〇","事業場５　２台目",{"$f":"入力シート!$G$84","v":0},{"$f":"入力シート!$L$84","v":0},null,14,"事業場１４",{"$f":"入力シート!$F$168","v":0},{"$f":"入力シート!$I$168","v":0}]
["〇","事業場５　３台目",{"$f":"入力シート!$G$85","v":0},{"$f":"入力シート!$L$85","v":0},null,15,"事業場１５",{"$f":"入力シート!$F$177","v":0},{"$f":"入力シート!$I$177","v":0}]
["〇","事業場６　１台目",{"$f":"入力シート!$G$92","v":0},{"$f":"入力シート!$L$92","v":0},null,16,"事業場１６",{"$f":"入力シート!$F$186","v":0},{"$f":"入力シート!$I$186","v":0}]
["〇","事業場６　２台目",{"$f":"入力シート!$G$93","v":0},{"$f":"入力シート!$L$93","v":0},null,17,"事業場１７",{"$f":"入力シート!$F$195","v":0},{"$f":"入力シート!$I$195","v":0}]
["〇","事業場６　３台目",{"$f":"入力シート!$G$94","v":0},{"$f":"入力シート!$L$94","v":0},null,18,"事業場１８",{"$f":"入力シート!$F$204","v":0},{"$f":"入力シート!$I$204","v":0}]
["〇","事業場７　１台目",{"$f":"入力シート!$G$101","v":0},{"$f":"入力シート!$L$101","v":0},null,19,"事業場１９",{"$f":"入力シート!$F$213","v":0},{"$f":"入力シート!$I$213","v":0}]
["〇","事業場７　２台目",{"$f":"入力シート!$G$102","v":0},{"$f":"入力シート!$L$102","v":0},null,20,"事業場２０",{"$f":"入力シート!$F$222","v":0},{"$f":"入力シート!$I$222","v":0}]
["〇","事業場７　３台目",{"$f":"入力シート!$G$103","v":0},{"$f":"入力シート!$L$103","v":0},null,21,"事業場２１",{"$f":"入力シート!$F$231","v":0},{"$f":"入力シート!$I$231","v":0}]
["〇","事業場８　１台目",{"$f":"入力シート!$G$110","v":0},{"$f":"入力シート!$L$110","v":0},null,22,"事業場２２",{"$f":"入力シート!$F$240","v":0},{"$f":"入力シート!$I$240","v":0}]
["〇","事業場８　２台目",{"$f":"入力シート!$G$111","v":0},{"$f":"入力シート!$L$111","v":0},null,23,"事業場２３",{"$f":"入力シート!$F$249","v":0},{"$f":"入力シート!$I$249","v":0}]
["〇","事業場８　３台目",{"$f":"入力シート!$G$112","v":0},{"$f":"入力シート!$L$112","v":0},null,24,"事業場２４",{"$f":"入力シート!$F$258","v":0},{"$f":"入力シート!$I$258","v":0}]
["〇","事業場９　１台目",{"$f":"入力シート!$G$119","v":0},{"$f":"入力シート!$L$119","v":0},null,25,"事業場２５",{"$f":"入力シート!$F$267","v":0},{"$f":"入力シート!$I$267","v":0}]
["〇","事業場９　２台目",{"$f":"入力シート!$G$120","v":0},{"$f":"入力シート!$L$120","v":0},null,26,"事業場２６",{"$f":"入力シート!$F$276","v":0},{"$f":"入力シート!$I$276","v":0}]
["〇","事業場９　３台目",{"$f":"入力シート!$G$121","v":0},{"$f":"入力シート!$L$121","v":0},null,27,"事業場２７",{"$f":"入力シート!$F$285","v":0},{"$f":"入力シート!$I$285","v":0}]
["〇","事業場１０　１台目",{"$f":"入力シート!$G$128","v":0},{"$f":"入力シート!$L$128","v":0},null,28,"事業場２８",{"$f":"入力シート!$F$294","v":0},{"$f":"入力シート!$I$294","v":0}]
["〇","事業場１０　２台目",{"$f":"入力シート!$G$129","v":0},{"$f":"入力シート!$L$129","v":0},null,29,"事業場２９",{"$f":"入力シート!$F$303","v":0},{"$f":"入力シート!$I$303","v":0}]
["〇","事業場１０　３台目",{"$f":"入力シート!$G$130","v":0},{"$f":"入力シート!$L$130","v":0},null,30,"事業場３０",{"$f":"入力シート!$F$312","v":0},{"$f":"入力シート!$I$312","v":0}]
["〇","事業場１１　１台目",{"$f":"入力シート!$G$137","v":0},{"$f":"入力シート!$L$137","v":0},null,31,"事業場３１",{"$f":"入力シート!$F$321","v":0},{"$f":"入力シート!$I$321","v":0}]
["〇","事業場１１　２台目",{"$f":"入力シート!$G$138","v":0},{"$f":"入力シート!$L$138","v":0},null,32,"事業場３２",{"$f":"入力シート!$F$330","v":0},{"$f":"入力シート!$I$330","v":0}]
["〇","事業場１１　３台目",{"$f":"入力シート!$G$139","v":0},{"$f":"入力シート!$L$139","v":0},null,33,"事業場３３",{"$f":"入力シート!$F$339","v":0},{"$f":"入力シート!$I$339","v":0}]
["〇","事業場１２　１台目",{"$f":"入力シート!$G$146","v":0},{"$f":"入力シート!$L$146","v":0},null,34,"事業場３４",{"$f":"入力シート!$F$348","v":0},{"$f":"入力シート!$I$348","v":0}]
["〇","事業場１２　２台目",{"$f":"入力シート!$G$147","v":0},{"$f":"入力シート!$L$147","v":0},null,35,"事業場３５",{"$f":"入力シート!$F$357","v":0},{"$f":"入力シート!$I$357","v":0}]
["〇","事業場１２　３台目",{"$f":"入力シート!$G$148","v":0},{"$f":"入力シート!$L$148","v":0},null,36,"事業場３６",{"$f":"入力シート!$F$366","v":0},{"$f":"入力シート!$I$366","v":0}]
["〇","事業場１３　１台目",{"$f":"入力シート!$G$155","v":0},{"$f":"入力シート!$L$155","v":0},null,37,"事業場３７",{"$f":"入力シート!$F$375","v":0},{"$f":"入力シート!$I$375","v":0}]
["〇","事業場１３　２台目",{"$f":"入力シート!$G$156","v":0},{"$f":"入力シート!$L$156","v":0},null,38,"事業場３８",{"$f":"入力シート!$F$384","v":0},{"$f":"入力シート!$I$384","v":0}]
["〇","事業場１３　３台目",{"$f":"入力シート!$G$157","v":0},{"$f":"入力シート!$L$157","v":0},null,39,"事業場３９",{"$f":"入力シート!$F$393","v":0},{"$f":"入力シート!$I$393","v":0}]
["〇","事業場１４　１台目",{"$f":"入力シート!$G$164","v":0},{"$f":"入力シート!$L$164","v":0},null,40,"事業場４０",{"$f":"入力シート!$F$402","v":0},{"$f":"入力シート!$I$402","v":0}]
["〇","事業場１４　２台目",{"$f":"入力シート!$G$165","v":0},{"$f":"入力シート!$L$165","v":0},null,41,"事業場４１",{"$f":"入力シート!$F$411","v":0},{"$f":"入力シート!$I$411","v":0}]
["〇","事業場１４　３台目",{"$f":"入力シート!$G$166","v":0},{"$f":"入力シート!$L$166","v":0},null,42,"事業場４２",{"$f":"入力シート!$F$420","v":0},{"$f":"入力シート!$I$420","v":0}]
["〇","事業場１５　１台目",{"$f":"入力シート!$G$173","v":0},{"$f":"入力シート!$L$173","v":0},null,43,"事業場４３",{"$f":"入力シート!$F$429","v":0},{"$f":"入力シート!$I$429","v":0}]
["〇","事業場１５　２台目",{"$f":"入力シート!$G$174","v":0},{"$f":"入力シート!$L$174","v":0},null,44,"事業場４４",{"$f":"入力シート!$F$438","v":0},{"$f":"入力シート!$I$438","v":0}]
["〇","事業場１５　３台目",{"$f":"入力シート!$G$175","v":0},{"$f":"入力シート!$L$175","v":0},null,45,"事業場４５",{"$f":"入力シート!$F$447","v":0},{"$f":"入力シート!$I$447","v":0}]
["〇","事業場１６　１台目",{"$f":"入力シート!$G$182","v":0},{"$f":"入力シート!$L$182","v":0},null,46,"事業場４６",{"$f":"入力シート!$F$456","v":0},{"$f":"入力シート!$I$456","v":0}]
["〇","事業場１６　２台目",{"$f":"入力シート!$G$183","v":0},{"$f":"入力シート!$L$183","v":0},null,47,"事業場４７",{"$f":"入力シート!$F$465","v":0},{"$f":"入力シート!$I$465","v":0}]
["〇","事業場１６　３台目",{"$f":"入力シート!$G$184","v":0},{"$f":"入力シート!$L$184","v":0},null,48,"事業場４８",{"$f":"入力シート!$F$474","v":0},{"$f":"入力シート!$I$474","v":0}]
["〇","事業場１７　１台目",{"$f":"入力シート!$G$191","v":0},{"$f":"入力シート!$L$191","v":0},null,49,"事業場４９",{"$f":"入力シート!$F$483","v":0},{"$f":"入力シート!$I$483","v":0}]
["〇","事業場１７　２台目",{"$f":"入力シート!$G$192","v":0},{"$f":"入力シート!$L$192","v":0},null,50,"事業場５０",{"$f":"入力シート!$F$492","v":0},{"$f":"入力シート!$I$492","v":0}]
["〇","事業場１７　３台目",{"$f":"入力シート!$G$193","v":0},{"$f":"入力シート!$L$193","v":0}]
["〇","事業場１８　１台目",{"$f":"入力シート!$G$200","v":0},{"$f":"入力シート!$L$200","v":0}]
["〇","事業場１８　２台目",{"$f":"入力シート!$G$201","v":0},{"$f":"入力シート!$L$201","v":0}]
["〇","事業場１８　３台目",{"$f":"入力シート!$G$202","v":0},{"$f":"入力シート!$L$202","v":0}]
["〇","事業場１９　１台目",{"$f":"入力シート!$G$209","v":0},{"$f":"入力シート!$L$209","v":0}]
["〇","事業場１９　２台目",{"$f":"入力シート!$G$210","v":0},{"$f":"入力シート!$L$210","v":0}]
["〇","事業場１９　３台目",{"$f":"入力シート!$G$211","v":0},{"$f":"入力シート!$L$211","v":0}]
["〇","事業場２０　１台目",{"$f":"入力シート!$G$218","v":0},{"$f":"入力シート!$L$218","v":0}]
["〇","事業場２０　２台目",{"$f":"入力シート!$G$219","v":0},{"$f":"入力シート!$L$219","v":0}]
["〇","事業場２０　３台目",{"$f":"入力シート!$G$220","v":0},{"$f":"入力シート!$L$220","v":0}]
["〇","事業場２１　１台目",{"$f":"入力シート!$G$227","v":0},{"$f":"入力シート!$L$227","v":0}]
["〇","事業場２１　２台目",{"$f":"入力シート!$G$228","v":0},{"$f":"入力シート!$L$228","v":0}]
["〇","事業場２１　３台目",{"$f":"入力シート!$G$229","v":0},{"$f":"入力シート!$L$229","v":0}]
["〇","事業場２２　１台目",{"$f":"入力シート!$G$236","v":0},{"$f":"入力シート!$L$236","v":0}]
["〇","事業場２２　２台目",{"$f":"入力シート!$G$237","v":0},{"$f":"入力シート!$L$237","v":0}]
["〇","事業場２２　３台目",{"$f":"入力シート!$G$238","v":0},{"$f":"入力シート!$L$238","v":0}]
["〇","事業場２３　１台目",{"$f":"入力シート!$G$245","v":0},{"$f":"入力シート!$L$245","v":0}]
["〇","事業場２３　２台目",{"$f":"入力シート!$G$246","v":0},{"$f":"入力シート!$L$246","v":0}]
["〇","事業場２３　３台目",{"$f":"入力シート!$G$247","v":0},{"$f":"入力シート!$L$247","v":0}]
["〇","事業場２４　１台目",{"$f":"入力シート!$G$254","v":0},{"$f":"入力シート!$L$254","v":0}]
["〇","事業場２４　２台目",{"$f":"入力シート!$G$255","v":0},{"$f":"入力シート!$L$255","v":0}]
["〇","事業場２４　３台目",{"$f":"入力シート!$G$256","v":0},{"$f":"入力シート!$L$256","v":0}]
["〇","事業場２５　１台目",{"$f":"入力シート!$G$263","v":0},{"$f":"入力シート!$L$263","v":0}]
["〇","事業場２５　２台目",{"$f":"入力シート!$G$264","v":0},{"$f":"入力シート!$L$264","v":0}]
["〇","事業場２５　３台目",{"$f":"入力シート!$G$265","v":0},{"$f":"入力シート!$L$265","v":0}]
["〇","事業場２６　１台目",{"$f":"入力シート!$G$272","v":0},{"$f":"入力シート!$L$272","v":0}]
["〇","事業場２６　２台目",{"$f":"入力シート!$G$273","v":0},{"$f":"入力シート!$L$273","v":0}]
["〇","事業場２６　３台目",{"$f":"入力シート!$G$274","v":0},{"$f":"入力シート!$L$274","v":0}]
["〇","事業場２７　１台目",{"$f":"入力シート!$G$281","v":0},{"$f":"入力シート!$L$281","v":0}]
["〇","事業場２７　２台目",{"$f":"入力シート!$G$282","v":0},{"$f":"入力シート!$L$282","v":0}]
["〇","事業場２７　３台目",{"$f":"入力シート!$G$283","v":0},{"$f":"入力シート!$L$283","v":0}]
["〇","事業場２８　１台目",{"$f":"入力シート!$G$290","v":0},{"$f":"入力シート!$L$290","v":0}]
["〇","事業場２８　２台目",{"$f":"入力シート!$G$291","v":0},{"$f":"入力シート!$L$291","v":0}]
["〇","事業場２８　３台目",{"$f":"入力シート!$G$292","v":0},{"$f":"入力シート!$L$292","v":0}]
["〇","事業場２９　１台目",{"$f":"入力シート!$G$299","v":0},{"$f":"入力シート!$L$299","v":0}]
["〇","事業場２９　２台目",{"$f":"入力シート!$G$300","v":0},{"$f":"入力シート!$L$300","v":0}]
["〇","事業場２９　３台目",{"$f":"入力シート!$G$301","v":0},{"$f":"入力シート!$L$301","v":0}]
["〇","事業場３０　１台目",{"$f":"入力シート!$G$308","v":0},{"$f":"入力シート!$L$308","v":0}]
["〇","事業場３０　２台目",{"$f":"入力シート!$G$309","v":0},{"$f":"入力シート!$L$309","v":0}]
["〇","事業場３０　３台目",{"$f":"入力シート!$G$310","v":0},{"$f":"入力シート!$L$310","v":0}]
["〇","事業場３１　１台目",{"$f":"入力シート!$G$317","v":0},{"$f":"入力シート!$L$317","v":0}]
["〇","事業場３１　２台目",{"$f":"入力シート!$G$318","v":0},{"$f":"入力シート!$L$318","v":0}]
["〇","事業場３１　３台目",{"$f":"入力シート!$G$319","v":0},{"$f":"入力シート!$L$319","v":0}]
["〇","事業場３２　１台目",{"$f":"入力シート!$G$326","v":0},{"$f":"入力シート!$L$326","v":0}]
["〇","事業場３２　２台目",{"$f":"入力シート!$G$327","v":0},{"$f":"入力シート!$L$327","v":0}]
["〇","事業場３２　３台目",{"$f":"入力シート!$G$328","v":0},{"$f":"入力シート!$L$328","v":0}]
["〇","事業場３３　１台目",{"$f":"入力シート!$G$335","v":0},{"$f":"入力シート!$L$335","v":0}]
["〇","事業場３３　２台目",{"$f":"入力シート!$G$336","v":0},{"$f":"入力シート!$L$336","v":0}]
["〇","事業場３３　３台目",{"$f":"入力シート!$G$337","v":0},{"$f":"入力シート!$L$337","v":0}]
["〇","事業場３４　１台目",{"$f":"入力シート!$G$344","v":0},{"$f":"入力シート!$L$344","v":0}]
["〇","事業場３４　２台目",{"$f":"入力シート!$G$345","v":0},{"$f":"入力シート!$L$345","v":0}]
["〇","事業場３４　３台目",{"$f":"入力シート!$G$346","v":0},{"$f":"入力シート!$L$346","v":0}]
["〇","事業場３５　１台目",{"$f":"入力シート!$G$353","v":0},{"$f":"入力シート!$L$353","v":0}]
["〇","事業場３５　２台目",{"$f":"入力シート!$G$354","v":0},{"$f":"入力シート!$L$354","v":0}]
["〇","事業場３５　３台目",{"$f":"入力シート!$G$355","v":0},{"$f":"入力シート!$L$355","v":0}]
["〇","事業場３６　１台目",{"$f":"入力シート!$G$362","v":0},{"$f":"入力シート!$L$362","v":0}]
["〇","事業場３６　２台目",{"$f":"入力シート!$G$363","v":0},{"$f":"入力シート!$L$363","v":0}]
["〇","事業場３６　３台目",{"$f":"入力シート!$G$364","v":0},{"$f":"入力シート!$L$364","v":0}]
["〇","事業場３７　１台目",{"$f":"入力シート!$G$371","v":0},{"$f":"入力シート!$L$371","v":0}]
["〇","事業場３７　２台目",{"$f":"入力シート!$G$372","v":0},{"$f":"入力シート!$L$372","v":0}]
["〇","事業場３７　３台目",{"$f":"入力シート!$G$373","v":0},{"$f":"入力シート!$L$373","v":0}]
["〇","事業場３８　１台目",{"$f":"入力シート!$G$380","v":0},{"$f":"入力シート!$L$380","v":0}]
["〇","事業場３８　２台目",{"$f":"入力シート!$G$381","v":0},{"$f":"入力シート!$L$381","v":0}]
["〇","事業場３８　３台目",{"$f":"入力シート!$G$382","v":0},{"$f":"入力シート!$L$382","v":0}]
["〇","事業場３９　１台目",{"$f":"入力シート!$G$389","v":0},{"$f":"入力シート!$L$389","v":0}]
["〇","事業場３９　２台目",{"$f":"入力シート!$G$390","v":0},{"$f":"入力シート!$L$390","v":0}]
["〇","事業場３９　３台目",{"$f":"入力シート!$G$391","v":0},{"$f":"入力シート!$L$391","v":0}]
["〇","事業場４０　１台目",{"$f":"入力シート!$G$398","v":0},{"$f":"入力シート!$L$398","v":0}]
["〇","事業場４０　２台目",{"$f":"入力シート!$G$399","v":0},{"$f":"入力シート!$L$399","v":0}]
["〇","事業場４０　３台目",{"$f":"入力シート!$G$400","v":0},{"$f":"入力シート!$L$400","v":0}]
["〇","事業場４１　１台目",{"$f":"入力シート!$G$407","v":0},{"$f":"入力シート!$L$407","v":0}]
["〇","事業場４１　２台目",{"$f":"入力シート!$G$408","v":0},{"$f":"入力シート!$L$408","v":0}]
["〇","事業場４１　３台目",{"$f":"入力シート!$G$409","v":0},{"$f":"入力シート!$L$409","v":0}]
["〇","事業場４２　１台目",{"$f":"入力シート!$G$416","v":0},{"$f":"入力シート!$L$416","v":0}]
["〇","事業場４２　２台目",{"$f":"入力シート!$G$417","v":0},{"$f":"入力シート!$L$417","v":0}]
["〇","事業場４２　３台目",{"$f":"入力シート!$G$418","v":0},{"$f":"入力シート!$L$418","v":0}]
["〇","事業場４３　１台目",{"$f":"入力シート!$G$425","v":0},{"$f":"入力シート!$L$425","v":0}]
["〇","事業場４３　２台目",{"$f":"入力シート!$G$426","v":0},{"$f":"入力シート!$L$426","v":0}]
["〇","事業場４３　３台目",{"$f":"入力シート!$G$427","v":0},{"$f":"入力シート!$L$427","v":0}]
["〇","事業場４４　１台目",{"$f":"入力シート!$G$434","v":0},{"$f":"入力シート!$L$434","v":0}]
["〇","事業場４４　２台目",{"$f":"入力シート!$G$435","v":0},{"$f":"入力シート!$L$435","v":0}]
["〇","事業場４４　３台目",{"$f":"入力シート!$G$436","v":0},{"$f":"入力シート!$L$436","v":0}]
["〇","事業場４５　１台目",{"$f":"入力シート!$G$443","v":0},{"$f":"入力シート!$L$443","v":0}]
["〇","事業場４５　２台目",{"$f":"入力シート!$G$444","v":0},{"$f":"入力シート!$L$444","v":0}]
["〇","事業場４５　３台目",{"$f":"入力シート!$G$445","v":0},{"$f":"入力シート!$L$445","v":0}]
["〇","事業場４６　１台目",{"$f":"入力シート!$G$452","v":0},{"$f":"入力シート!$L$452","v":0}]
["〇","事業場４６　２台目",{"$f":"入力シート!$G$453","v":0},{"$f":"入力シート!$L$453","v":0}]
["〇","事業場４６　３台目",{"$f":"入力シート!$G$454","v":0},{"$f":"入力シート!$L$454","v":0}]
["〇","事業場４７　１台目",{"$f":"入力シート!$G$461","v":0},{"$f":"入力シート!$L$461","v":0}]
["〇","事業場４７　２台目",{"$f":"入力シート!$G$462","v":0},{"$f":"入力シート!$L$462","v":0}]
["〇","事業場４７　３台目",{"$f":"入力シート!$G$463","v":0},{"$f":"入力シート!$L$463","v":0}]
["〇","事業場４８　１台目",{"$f":"入力シート!$G$470","v":0},{"$f":"入力シート!$L$470","v":0}]
["〇","事業場４８　２台目",{"$f":"入力シート!$G$471","v":0},{"$f":"入力シート!$L$471","v":0}]
["〇","事業場４８　３台目",{"$f":"入力シート!$G$472","v":0},{"$f":"入力シート!$L$472","v":0}]
["〇","事業場４９　１台目",{"$f":"入力シート!$G$479","v":0},{"$f":"入力シート!$L$479","v":0}]
["〇","事業場４９　２台目",{"$f":"入力シート!$G$480","v":0},{"$f":"入力シート!$L$480","v":0}]
["〇","事業場４９　３台目",{"$f":"入力シート!$G$481","v":0},{"$f":"入力シート!$L$481","v":0}]
["〇","事業場５０　１台目",{"$f":"入力シート!$G$488","v":0},{"$f":"入力シート!$L$488","v":0}]
["〇","事業場５０　２台目",{"$f":"入力シート!$G$489","v":0},{"$f":"入力シート!$L$489","v":0}]
["〇","事業場５０　３台目",{"$f":"入力シート!$G$490","v":0},{"$f":"入力シート!$L$490","v":0}]

{"sheet":"様式第9","index":5,"n_rows":58,"n_cols":23,"rows_kept":58,"cut":false,"hidden":false,"merged":[[53,0,53,22],[49,0,51,5],[28,0,28,13],[56,0,56,22],[49,6,51,10],[49,14,49,22],[54,2,54,4],[50,14,50,22],[51,14,51,22],[1,19,1,21],[24,0,24,22],[48,0,48,5],[6,12,6,22],[7,12,7,22],[9,12,9,22],[10,12,10,22],[26,6,27,19],[48,6,48,10],[48,11,48,22],[16,0,22,22],[12,3,12,21],[13,1,13,21],[32,9,32,14],[36,9,36,14],[39,9,39,14]]}
["（様式第９）"]
[null,null,null,null,null,null,null,null,null,null,null,null,null,null,null,null,null,null,"第",{"$f":"中間シート!D28&\"\"","v":""},null,null,"号"]
[null,null,null,null,null,null,null,null,null,null,null,null,null,null,null,null,"令和",{"$f":"中間シート!D29&\"\"","v":""},"年",{"$f":"中間シート!E29&\"\"","v":""},"月",{"$f":"中間シート!F29&\"\"","v":""},"日"]
["パシフィックコンサルタンツ株式会社"]
["首都圏本社 本社長 殿"]
[]
[null,null,null,null,null,null,null,"補助事業者","住所",null,null,null,{"$f":"中間シート!D10&\" \"&中間シート!D11&\"\"","v":" "}]
[null,null,null,null,null,null,null,null,null,null,null,null,{"$f":"中間シート!D12&\" \"&中間シート!D13&\"\"","v":" "}]
[null,null,null,null,null,null,null,null,"法人名（個人事業主の場合は商号・屋号等）"]
[null,null,null,null,null,null,null,null,null,null,null,null,{"$f":"中間シート!D4&\"\"","v":""}]
[null,null,null,null,null,null,null,null,"代表者名",null,null,null,{"$f":"IF(中間シート!D8<>\"\",中間シート!D8&\"　\"&中間シート!D6&\"　\"&中間シート!D7,中間シート!D6&\"　\"&中間シート!D7)","v":"　"}]
[]
[null,"令和",{"$f":"中間シート!D29&\"\"","v":""},"年度AI･IoT等を活用した更なる輸送効率化推進事業費補助金（ビッグデータを活"]
[null,"用した効率的かつ適切な自動車整備による使用過程車の省エネ性能維持推進事業）補助事業"]
[null,"実績報告書"]
[]
["　下記２をもって交付決定のあった経済産業省からのAI･IoT等を活用した更なる輸送効率化推進事業費補助金（新技術を用いたサプライチェーン全体の輸送効率化推進事業、トラック輸送の省エネ化推進事業及びビッグデータを活用した効率的かつ適切な自動車整備による使用過程車の省エネ性能維持推進事業）交付要綱第３条に基づく国庫補助金に係る上記補助事業が完了しましたので、AI･IoT等を活用した更なる輸送効率化推進事業費補助金（ビッグデータを活用した効率的かつ適切な自動車整備による使用過程車の省エネ性能維持推進事業）交付規程第１５条第１項の規定に基づき、下記のとおり報告します。"]
[]
[]
[]
[]
[]
[]
[]
["記"]
["１．実施した補助事業"]
[" （１）補助事業の名称",null,null,null,null,null,{"$f":"IF(中間シート!$D$5=1,中間シート!D4&\"のスキャンツール導入事業\",IF(中間シート!$D$5=2,中間シート!D6&\"　\"&中間シート!D7&\"のスキャンツール導入事業\",\"\"))","v":""}]
[]
[" （２）補助事業の報告 実施状況報告（総括表）による"]
["（注）実施状況報告（総括表）は、ＰＣＫＫがＨＰにて別途指示するもの。"]
[]
["２．補助金の交付決定番号、交付決定年月日及び交付決定額"]
[" （１）交付決定番号",null,null,null,null,null,null,null,"第",{"$f":"中間シート!D30&\"\"","v":""},null,null,null,null,null,"号"]
[]
[" （２）交付決定年月日",null,null,null,null,null,null,null,"令和",null,{"$f":"中間シート!D31&\"\"","v":""},"年",{"$f":"中間シート!E31&\"\"","v":""},"月",{"$f":"中間シート!F31&\"\"","v":""},"日"]
[]
[" （３）補助金の交付決定額",null,null,null,null,null,null,null,"金",{"$f":"様式第9別紙!D58","v":""},null,null,null,null,null,"円"]
[]
["３．補助対象経費の実績額の総額及び事業完了年月日"]
[" （１）補助対象経費の実績額の総額",null,null,null,null,null,null,null,"金",{"$f":"様式第9別紙!B115","v":""},null,null,null,null,null,"円"]
[" （２）事業完了年月日",null,null,null,null,null,null,null,"令和",null,{"$f":"中間シート!D32&\"\"","v":""},"年",{"$f":"中間シート!E32&\"\"","v":""},"月",{"$f":"中間シート!F32&\"\"","v":""},"日"]
[]
["４．補助事業の収支決算"]
[" （別紙による）"]
["（注）実績報告書には、次の書面等を添付すること。"]
[" （１）支払領収証書（写し）"]
[" （２）その他ＰＣＫＫがＨＰにて指示する書面等"]
["【本補助事業実績報告に係る連絡先】"]
["担当部署及び役職",null,null,null,null,null,"担当者名",null,null,null,null,"電話、FAX及びE-mail"]
[{"$f":"中間シート!D16&\" \"&中間シート!D17&\"\"","v":" "},null,null,null,null,null,{"$f":"中間シート!D14&\"　\"&中間シート!D15","v":"　"},null,null,null,null,"（電話）",null,null,{"$f":"IF(中間シート!D18&中間シート!E18&中間シート!F18<>\"\",中間シート!D18&\"-\"&中間シート!E18&\"-\"&中間シート!F18,\"\")","v":""}]
[null,null,null,null,null,null,null,null,null,null,null,"（FAX）",null,null,{"$f":"IF(中間シート!D19&中間シート!E19&中間シート!F19<>\"\",中間シート!D19&\"-\"&中間シート!E19&\"-\"&中間シート!F19,\"\")","v":""}]
[null,null,null,null,null,null,null,null,null,null,null,"（E-mail）",null,null,{"$f":"中間シート!D20&\"\"","v":""}]
["【通知書等送付先宛名】"]
["住所（申請者と異なる場合のみ記入）"]
[null,"〒",{"$f":"IF(中間シート!D23<>\"\",LEFT(中間シート!D23,3)&\"-\"&RIGHT(中間シート!D23,4),\"\")","v":""}]
[]
[{"$f":"中間シート!D24&\" \"&中間シート!D25&\" \"&中間シート!D26&\" \"&中間シート!D27&\"\"","v":"   "}]
["（備考）用紙は、日本産業規格Ａ４とし、縦位置とする。"]

{"sheet":"様式第9別紙","index":6,"n_rows":115,"n_cols":6,"rows_kept":115,"cut":false,"hidden":false,"merged":[[3,1,3,5],[60,5,62,5],[1,0,1,5],[6,1,6,2],[6,3,6,5],[7,1,7,2],[7,3,7,5],[8,1,8,2],[8,3,8,5],[9,1,9,2],[60,1,60,4],[61,1,61,4],[4,1,5,2],[4,3,5,5],[9,3,9,5],[10,1,10,2],[10,3,10,5],[11,1,11,2],[15,1,15,2],[15,3,15,5],[16,1,16,2],[16,3,16,5],[17,1,17,2],[17,3,17,5],[11,3,11,5],[12,1,12,2],[12,3,12,5],[13,1,13,2],[13,3,13,5],[14,1,14,2],[14,3,14,5],[21,1,21,2],[21,3,21,5],[22,1,22,2],[22,3,22,5],[23,1,23,2],[23,3,23,5],[18,1,18,2],[18,3,18,5],[19,1,19,2],[19,3,19,5],[20,1,20,2],[20,3,20,5],[27,1,27,2],[27,3,27,5],[28,1,28,2],[28,3,28,5],[29,1,29,2],[29,3,29,5],[24,1,24,2],[24,3,24,5],[25,1,25,2],[25,3,25,5],[26,1,26,2],[26,3,26,5],[33,1,33,2],[33,3,33,5],[34,1,34,2],[34,3,34,5],[35,1,35,2],[35,3,35,5],[30,1,30,2],[30,3,30,5],[31,1,31,2],[31,3,31,5],[32,1,32,2],[32,3,32,5],[39,1,39,2],[39,3,39,5],[40,1,40,2],[40,3,40,5],[41,1,41,2],[41,3,41,5],[36,1,36,2],[36,3,36,5],[37,1,37,2],[37,3,37,5],[38,1,38,2],[38,3,38,5],[45,1,45,2],[45,3,45,5],[46,1,46,2],[46,3,46,5],[47,1,47,2],[47,3,47,5],[42,1,42,2],[42,3,42,5],[43,1,43,2],[43,3,43,5],[44,1,44,2],[44,3,44,5],[51,1,51,2],[51,3,51,5],[52,1,52,2],[52,3,52,5],[53,1,53,2],[53,3,53,5],[48,1,48,2],[48,3,48,5],[49,1,49,2],[49,3,49,5],[50,1,50,2],[50,3,50,5],[57,1,57,2],[57,3,57,5],[60,0,62,0],[54,1,54,2],[54,3,54,5],[55,1,55,2],[55,3,55,5],[56,1,56,2],[56,3,56,5]]}
["（別紙）"]
["収支明細表"]
[null,null,null,null,null,"（単位：円）"]
["交付決定額","交付決定額"]
["及び\n決算額","補助対象経費",null,"補助金の額"]
["補助対象\n経費の区分"]
["設備費（内訳）"]
["　事業場１",{"$f":"IF(中間シート!C35<>0,中間シート!C35,\"\")","v":""},null,{"$f":"IF($B8<>\"\",IF(ROUNDDOWN(B8*0.202,-3)>=150000,150000,ROUNDDOWN(B8*0.202,-3)),\"\")","v":""}]
["　事業場２",{"$f":"IF(AND(中間シート!$D$3>=中間シート!$F88,中間シート!C36<>0),中間シート!C36,\"\")","v":""},null,{"$f":"IF($B9<>\"\",IF(ROUNDDOWN(B9*0.202,-3)>=150000,150000,ROUNDDOWN(B9*0.202,-3)),\"\")","v":""}]
["　事業場３",{"$f":"IF(AND(中間シート!$D$3>=中間シート!$F89,中間シート!C37<>0),中間シート!C37,\"\")","v":""},null,""]
["　事業場４",{"$f":"IF(AND(中間シート!$D$3>=中間シート!$F90,中間シート!C38<>0),中間シート!C38,\"\")","v":""},null,""]
["　事業場５",{"$f":"IF(AND(中間シート!$D$3>=中間シート!$F91,中間シート!C39<>0),中間シート!C39,\"\")","v":""},null,""]
["　事業場６",{"$f":"IF(AND(中間シート!$D$3>=中間シート!$F92,中間シート!C40<>0),中間シート!C40,\"\")","v":""},null,""]
["　事業場７",{"$f":"IF(AND(中間シート!$D$3>=中間シート!$F93,中間シート!C41<>0),中間シート!C41,\"\")","v":""},null,""]
["　事業場８",{"$f":"IF(AND(中間シート!$D$3>=中間シート!$F94,中間シート!C42<>0),中間シート!C42,\"\")","v":""},null,""]
["　事業場９",{"$f":"IF(AND(中間シート!$D$3>=中間シート!$F95,中間シート!C43<>0),中間シート!C43,\"\")","v":""},null,""]
["　事業場１０",{"$f":"IF(AND(中間シート!$D$3>=中間シート!$F96,中間シート!C44<>0),中間シート!C44,\"\")","v":""},null,""]
["　事業場１１",{"$f":"IF(AND(中間シート!$D$3>=中間シート!$F97,中間シート!C45<>0),中間シート!C45,\"\")","v":""},null,""]
["　事業場１２",{"$f":"IF(AND(中間シート!$D$3>=中間シート!$F98,中間シート!C46<>0),中間シート!C46,\"\")","v":""},null,""]
["　事業場１３",{"$f":"IF(AND(中間シート!$D$3>=中間シート!$F99,中間シート!C47<>0),中間シート!C47,\"\")","v":""},null,""]
["　事業場１４",{"$f":"IF(AND(中間シート!$D$3>=中間シート!$F100,中間シート!C48<>0),中間シート!C48,\"\")","v":""},null,""]
["　事業場１５",{"$f":"IF(AND(中間シート!$D$3>=中間シート!$F101,中間シート!C49<>0),中間シート!C49,\"\")","v":""},null,""]
["　事業場１６",{"$f":"IF(AND(中間シート!$D$3>=中間シート!$F102,中間シート!C50<>0),中間シート!C50,\"\")","v":""},null,""]
["　事業場１７",{"$f":"IF(AND(中間シート!$D$3>=中間シート!$F103,中間シート!C51<>0),中間シート!C51,\"\")","v":""},null,""]
["　事業場１８",{"$f":"IF(AND(中間シート!$D$3>=中間シート!$F104,中間シート!C52<>0),中間シート!C52,\"\")","v":""},null,""]
["　事業場１９",{"$f":"IF(AND(中間シート!$D$3>=中間シート!$F105,中間シート!C53<>0),中間シート!C53,\"\")","v":""},null,""]
["　事業場２０",{"$f":"IF(AND(中間シート!$D$3>=中間シート!$F106,中間シート!C54<>0),中間シート!C54,\"\")","v":""},null,""]
["　事業場２１",{"$f":"IF(AND(中間シート!$D$3>=中間シート!$F107,中間シート!C55<>0),中間シート!C55,\"\")","v":""},null,""]
["　事業場２２",{"$f":"IF(AND(中間シート!$D$3>=中間シート!$F108,中間シート!C56<>0),中間シート!C56,\"\")","v":""},null,""]
["　事業場２３",{"$f":"IF(AND(中間シート!$D$3>=中間シート!$F109,中間シート!C57<>0),中間シート!C57,\"\")","v":""},null,""]
["　事業場２４",{"$f":"IF(AND(中間シート!$D$3>=中間シート!$F110,中間シート!C58<>0),中間シート!C58,\"\")","v":""},null,""]
["　事業場２５",{"$f":"IF(AND(中間シート!$D$3>=中間シート!$F111,中間シート!C59<>0),中間シート!C59,\"\")","v":""},null,""]
["　事業場２６",{"$f":"IF(AND(中間シート!$D$3>=中間シート!$F112,中間シート!C60<>0),中間シート!C60,\"\")","v":""},null,""]
["　事業場２７",{"$f":"IF(AND(中間シート!$D$3>=中間シート!$F113,中間シート!C61<>0),中間シート!C61,\"\")","v":""},null,""]
["　事業場２８",{"$f":"IF(AND(中間シート!$D$3>=中間シート!$F114,中間シート!C62<>0),中間シート!C62,\"\")","v":""},null,""]
["　事業場２９",{"$f":"IF(AND(中間シート!$D$3>=中間シート!$F115,中間シート!C63<>0),中間シート!C63,\"\")","v":""},null,""]
["　事業場３０",{"$f":"IF(AND(中間シート!$D$3>=中間シート!$F116,中間シート!C64<>0),中間シート!C64,\"\")","v":""},null,""]
["　事業場３１",{"$f":"IF(AND(中間シート!$D$3>=中間シート!$F117,中間シート!C65<>0),中間シート!C65,\"\")","v":""},null,""]
["　事業場３２",{"$f":"IF(AND(中間シート!$D$3>=中間シート!$F118,中間シート!C66<>0),中間シート!C66,\"\")","v":""},null,""]
["　事業場３３",{"$f":"IF(AND(中間シート!$D$3>=中間シート!$F119,中間シート!C67<>0),中間シート!C67,\"\")","v":""},null,""]
["　事業場３４",{"$f":"IF(AND(中間シート!$D$3>=中間シート!$F120,中間シート!C68<>0),中間シート!C68,\"\")","v":""},null,""]
["　事業場３５",{"$f":"IF(AND(中間シート!$D$3>=中間シート!$F121,中間シート!C69<>0),中間シート!C69,\"\")","v":""},null,""]
["　事業場３６",{"$f":"IF(AND(中間シート!$D$3>=中間シート!$F122,中間シート!C70<>0),中間シート!C70,\"\")","v":""},null,""]
["　事業場３７",{"$f":"IF(AND(中間シート!$D$3>=中間シート!$F123,中間シート!C71<>0),中間シート!C71,\"\")","v":""},null,""]
["　事業場３８",{"$f":"IF(AND(中間シート!$D$3>=中間シート!$F124,中間シート!C72<>0),中間シート!C72,\"\")","v":""},null,""]
["　事業場３９",{"$f":"IF(AND(中間シート!$D$3>=中間シート!$F125,中間シート!C73<>0),中間シート!C73,\"\")","v":""},null,""]
["　事業場４０",{"$f":"IF(AND(中間シート!$D$3>=中間シート!$F126,中間シート!C74<>0),中間シート!C74,\"\")","v":""},null,""]
["　事業場４１",{"$f":"IF(AND(中間シート!$D$3>=中間シート!$F127,中間シート!C75<>0),中間シート!C75,\"\")","v":""},null,""]
["　事業場４２",{"$f":"IF(AND(中間シート!$D$3>=中間シート!$F128,中間シート!C76<>0),中間シート!C76,\"\")","v":""},null,""]
["　事業場４３",{"$f":"IF(AND(中間シート!$D$3>=中間シート!$F129,中間シート!C77<>0),中間シート!C77,\"\")","v":""},null,""]
["　事業場４４",{"$f":"IF(AND(中間シート!$D$3>=中間シート!$F130,中間シート!C78<>0),中間シート!C78,\"\")","v":""},null,""]
["　事業場４５",{"$f":"IF(AND(中間シート!$D$3>=中間シート!$F131,中間シート!C79<>0),中間シート!C79,\"\")","v":""},null,""]
["　事業場４６",{"$f":"IF(AND(中間シート!$D$3>=中間シート!$F132,中間シート!C80<>0),中間シート!C80,\"\")","v":""},null,""]
["　事業場４７",{"$f":"IF(AND(中間シート!$D$3>=中間シート!$F133,中間シート!C81<>0),中間シート!C81,\"\")","v":""},null,""]
["　事業場４８",{"$f":"IF(AND(中間シート!$D$3>=中間シート!$F134,中間シート!C82<>0),中間シート!C82,\"\")","v":""},null,""]
["　事業場４９",{"$f":"IF(AND(中間シート!$D$3>=中間シート!$F135,中間シート!C83<>0),中間シート!C83,\"\")","v":""},null,""]
["　事業場５０",{"$f":"IF(AND(中間シート!$D$3>=中間シート!$F136,中間シート!C84<>0),中間シート!C84,\"\")","v":""},null,""]
["合 計",{"$f":"IF(SUM(B8:C57)=0,\"\",SUM(B8:C57))","v":""},null,{"$f":"IF(SUM(D8:F57)=0,\"\",SUM(D8:F57))","v":""}]
[]
[null,null,null,null,null,"（単位：円）"]
[null,"決算額",null,null,null,"備考"]
[null,"支出"]
[null,"補助対象経費の\n実績額","補助対象\n経費","補助率","補助金の額"]
["設備費（内訳）"]
["　事業場１",{"$f":"IF(中間シート!H87<>0,中間シート!H87,\"\")","v":""},{"$f":"IF(AND(中間シート!I87<>0,B65<>\"\"),中間シート!I87,\"\")","v":""},{"$f":"IF(B65<>\"\",\"0.606/3\",\"\")","v":""},{"$f":"IF($C65<>\"\",IF(ROUNDDOWN(C65*0.202,-3)>=150000,150000,ROUNDDOWN(C65*0.202,-3)),\"\")","v":""}]
["　事業場２",{"$f":"IF(AND(中間シート!$D$3>=中間シート!$F88,中間シート!H88<>0),中間シート!H88,\"\")","v":""},{"$f":"IF(AND(中間シート!I88<>0,B66<>\"\"),中間シート!I88,\"\")","v":""},{"$f":"IF(B66<>\"\",\"0.606/3\",\"\")","v":""},{"$f":"IF($C66<>\"\",IF(ROUNDDOWN(C66*0.202,-3)>=150000,150000,ROUNDDOWN(C66*0.202,-3)),\"\")","v":""}]
["　事業場３",{"$f":"IF(AND(中間シート!$D$3>=中間シート!$F89,中間シート!H89<>0),中間シート!H89,\"\")","v":""},{"$f":"IF(AND(中間シート!I89<>0,B67<>\"\"),中間シート!I89,\"\")","v":""},"",""]
["　事業場４",{"$f":"IF(AND(中間シート!$D$3>=中間シート!$F90,中間シート!H90<>0),中間シート!H90,\"\")","v":""},{"$f":"IF(AND(中間シート!I90<>0,B68<>\"\"),中間シート!I90,\"\")","v":""},"",""]
["　事業場５",{"$f":"IF(AND(中間シート!$D$3>=中間シート!$F91,中間シート!H91<>0),中間シート!H91,\"\")","v":""},{"$f":"IF(AND(中間シート!I91<>0,B69<>\"\"),中間シート!I91,\"\")","v":""},"",""]
["　事業場６",{"$f":"IF(AND(中間シート!$D$3>=中間シート!$F92,中間シート!H92<>0),中間シート!H92,\"\")","v":""},{"$f":"IF(AND(中間シート!I92<>0,B70<>\"\"),中間シート!I92,\"\")","v":""},"",""]
["　事業場７",{"$f":"IF(AND(中間シート!$D$3>=中間シート!$F93,中間シート!H93<>0),中間シート!H93,\"\")","v":""},{"$f":"IF(AND(中間シート!I93<>0,B71<>\"\"),中間シート!I93,\"\")","v":""},"",""]
["　事業場８",{"$f":"IF(AND(中間シート!$D$3>=中間シート!$F94,中間シート!H94<>0),中間シート!H94,\"\")","v":""},{"$f":"IF(AND(中間シート!I94<>0,B72<>\"\"),中間シート!I94,\"\")","v":""},"",""]
["　事業場９",{"$f":"IF(AND(中間シート!$D$3>=中間シート!$F95,中間シート!H95<>0),中間シート!H95,\"\")","v":""},{"$f":"IF(AND(中間シート!I95<>0,B73<>\"\"),中間シート!I95,\"\")","v":""},"",""]
["　事業場１０",{"$f":"IF(AND(中間シート!$D$3>=中間シート!$F96,中間シート!H96<>0),中間シート!H96,\"\")","v":""},{"$f":"IF(AND(中間シート!I96<>0,B74<>\"\"),中間シート!I96,\"\")","v":""},"",""]
["　事業場１１",{"$f":"IF(AND(中間シート!$D$3>=中間シート!$F97,中間シート!H97<>0),中間シート!H97,\"\")","v":""},{"$f":"IF(AND(中間シート!I97<>0,B75<>\"\"),中間シート!I97,\"\")","v":""},"",""]
["　事業場１２",{"$f":"IF(AND(中間シート!$D$3>=中間シート!$F98,中間シート!H98<>0),中間シート!H98,\"\")","v":""},{"$f":"IF(AND(中間シート!I98<>0,B76<>\"\"),中間シート!I98,\"\")","v":""},"",""]
["　事業場１３",{"$f":"IF(AND(中間シート!$D$3>=中間シート!$F99,中間シート!H99<>0),中間シート!H99,\"\")","v":""},{"$f":"IF(AND(中間シート!I99<>0,B77<>\"\"),中間シート!I99,\"\")","v":""},"",""]
["　事業場１４",{"$f":"IF(AND(中間シート!$D$3>=中間シート!$F100,中間シート!H100<>0),中間シート!H100,\"\")","v":""},{"$f":"IF(AND(中間シート!I100<>0,B78<>\"\"),中間シート!I100,\"\")","v":""},"",""]
["　事業場１５",{"$f":"IF(AND(中間シート!$D$3>=中間シート!$F101,中間シート!H101<>0),中間シート!H101,\"\")","v":""},{"$f":"IF(AND(中間シート!I101<>0,B79<>\"\"),中間シート!I101,\"\")","v":""},"",""]
["　事業場１６",{"$f":"IF(AND(中間シート!$D$3>=中間シート!$F102,中間シート!H102<>0),中間シート!H102,\"\")","v":""},{"$f":"IF(AND(中間シート!I102<>0,B80<>\"\"),中間シート!I102,\"\")","v":""},"",""]
["　事業場１７",{"$f":"IF(AND(中間シート!$D$3>=中間シート!$F103,中間シート!H103<>0),中間シート!H103,\"\")","v":""},{"$f":"IF(AND(中間シート!I103<>0,B81<>\"\"),中間シート!I103,\"\")","v":""},"",""]
["　事業場１８",{"$f":"IF(AND(中間シート!$D$3>=中間シート!$F104,中間シート!H104<>0),中間シート!H104,\"\")","v":""},{"$f":"IF(AND(中間シート!I104<>0,B82<>\"\"),中間シート!I104,\"\")","v":""},"",""]
["　事業場１９",{"$f":"IF(AND(中間シート!$D$3>=中間シート!$F105,中間シート!H105<>0),中間シート!H105,\"\")","v":""},{"$f":"IF(AND(中間シート!I105<>0,B83<>\"\"),中間シート!I105,\"\")","v":""},"",""]
["　事業場２０",{"$f":"IF(AND(中間シート!$D$3>=中間シート!$F106,中間シート!H106<>0),中間シート!H106,\"\")","v":""},{"$f":"IF(AND(中間シート!I106<>0,B84<>\"\"),中間シート!I106,\"\")","v":""},"",""]
["　事業場２１",{"$f":"IF(AND(中間シート!$D$3>=中間シート!$F107,中間シート!H107<>0),中間シート!H107,\"\")","v":""},{"$f":"IF(AND(中間シート!I107<>0,B85<>\"\"),中間シート!I107,\"\")","v":""},"",""]
["　事業場２２",{"$f":"IF(AND(中間シート!$D$3>=中間シート!$F108,中間シート!H108<>0),中間シート!H108,\"\")","v":""},{"$f":"IF(AND(中間シート!I108<>0,B86<>\"\"),中間シート!I108,\"\")","v":""},"",""]
["　事業場２３",{"$f":"IF(AND(中間シート!$D$3>=中間シート!$F109,中間シート!H109<>0),中間シート!H109,\"\")","v":""},{"$f":"IF(AND(中間シート!I109<>0,B87<>\"\"),中間シート!I109,\"\")","v":""},"",""]
["　事業場２４",{"$f":"IF(AND(中間シート!$D$3>=中間シート!$F110,中間シート!H110<>0),中間シート!H110,\"\")","v":""},{"$f":"IF(AND(中間シート!I110<>0,B88<>\"\"),中間シート!I110,\"\")","v":""},"",""]
["　事業場２５",{"$f":"IF(AND(中間シート!$D$3>=中間シート!$F111,中間シート!H111<>0),中間シート!H111,\"\")","v":""},{"$f":"IF(AND(中間シート!I111<>0,B89<>\"\"),中間シート!I111,\"\")","v":""},"",""]
["　事業場２６",{"$f":"IF(AND(中間シート!$D$3>=中間シート!$F112,中間シート!H112<>0),中間シート!H112,\"\")","v":""},{"$f":"IF(AND(中間シート!I112<>0,B90<>\"\"),中間シート!I112,\"\")","v":""},"",""]
["　事業場２７",{"$f":"IF(AND(中間シート!$D$3>=中間シート!$F113,中間シート!H113<>0),中間シート!H113,\"\")","v":""},{"$f":"IF(AND(中間シート!I113<>0,B91<>\"\"),中間シート!I113,\"\")","v":""},"",""]
["　事業場２８",{"$f":"IF(AND(中間シート!$D$3>=中間シート!$F114,中間シート!H114<>0),中間シート!H114,\"\")","v":""},{"$f":"IF(AND(中間シート!I114<>0,B92<>\"\"),中間シート!I114,\"\")","v":""},"",""]
["　事業場２９",{"$f":"IF(AND(中間シート!$D$3>=中間シート!$F115,中間シート!H115<>0),中間シート!H115,\"\")","v":""},{"$f":"IF(AND(中間シート!I115<>0,B93<>\"\"),中間シート!I115,\"\")","v":""},"",""]
["　事業場３０",{"$f":"IF(AND(中間シート!$D$3>=中間シート!$F116,中間シート!H116<>0),中間シート!H116,\"\")","v":""},{"$f":"IF(AND(中間シート!I116<>0,B94<>\"\"),中間シート!I116,\"\")","v":""},"",""]
["　事業場３１",{"$f":"IF(AND(中間シート!$D$3>=中間シート!$F117,中間シート!H117<>0),中間シート!H117,\"\")","v":""},{"$f":"IF(AND(中間シート!I117<>0,B95<>\"\"),中間シート!I117,\"\")","v":""},"",""]
["　事業場３２",{"$f":"IF(AND(中間シート!$D$3>=中間シート!$F118,中間シート!H118<>0),中間シート!H118,\"\")","v":""},{"$f":"IF(AND(中間シート!I118<>0,B96<>\"\"),中間シート!I118,\"\")","v":""},"",""]
["　事業場３３",{"$f":"IF(AND(中間シート!$D$3>=中間シート!$F119,中間シート!H119<>0),中間シート!H119,\"\")","v":""},{"$f":"IF(AND(中間シート!I119<>0,B97<>\"\"),中間シート!I119,\"\")","v":""},"",""]
["　事業場３４",{"$f":"IF(AND(中間シート!$D$3>=中間シート!$F120,中間シート!H120<>0),中間シート!H120,\"\")","v":""},{"$f":"IF(AND(中間シート!I120<>0,B98<>\"\"),中間シート!I120,\"\")","v":""},"",""]
["　事業場３５",{"$f":"IF(AND(中間シート!$D$3>=中間シート!$F121,中間シート!H121<>0),中間シート!H121,\"\")","v":""},{"$f":"IF(AND(中間シート!I121<>0,B99<>\"\"),中間シート!I121,\"\")","v":""},"",""]
["　事業場３６",{"$f":"IF(AND(中間シート!$D$3>=中間シート!$F122,中間シート!H122<>0),中間シート!H122,\"\")","v":""},{"$f":"IF(AND(中間シート!I122<>0,B100<>\"\"),中間シート!I122,\"\")","v":""},"",""]
["　事業場３７",{"$f":"IF(AND(中間シート!$D$3>=中間シート!$F123,中間シート!H123<>0),中間シート!H123,\"\")","v":""},{"$f":"IF(AND(中間シート!I123<>0,B101<>\"\"),中間シート!I123,\"\")","v":""},"",""]
["　事業場３８",{"$f":"IF(AND(中間シート!$D$3>=中間シート!$F124,中間シート!H124<>0),中間シート!H124,\"\")","v":""},{"$f":"IF(AND(中間シート!I124<>0,B102<>\"\"),中間シート!I124,\"\")","v":""},"",""]
["　事業場３９",{"$f":"IF(AND(中間シート!$D$3>=中間シート!$F125,中間シート!H125<>0),中間シート!H125,\"\")","v":""},{"$f":"IF(AND(中間シート!I125<>0,B103<>\"\"),中間シート!I125,\"\")","v":""},"",""]
["　事業場４０",{"$f":"IF(AND(中間シート!$D$3>=中間シート!$F126,中間シート!H126<>0),中間シート!H126,\"\")","v":""},{"$f":"IF(AND(中間シート!I126<>0,B104<>\"\"),中間シート!I126,\"\")","v":""},"",""]
["　事業場４１",{"$f":"IF(AND(中間シート!$D$3>=中間シート!$F127,中間シート!H127<>0),中間シート!H127,\"\")","v":""},{"$f":"IF(AND(中間シート!I127<>0,B105<>\"\"),中間シート!I127,\"\")","v":""},"",""]
["　事業場４２",{"$f":"IF(AND(中間シート!$D$3>=中間シート!$F128,中間シート!H128<>0),中間シート!H128,\"\")","v":""},{"$f":"IF(AND(中間シート!I128<>0,B106<>\"\"),中間シート!I128,\"\")","v":""},"",""]
["　事業場４３",{"$f":"IF(AND(中間シート!$D$3>=中間シート!$F129,中間シート!H129<>0),中間シート!H129,\"\")","v":""},{"$f":"IF(AND(中間シート!I129<>0,B107<>\"\"),中間シート!I129,\"\")","v":""},"",""]
["　事業場４４",{"$f":"IF(AND(中間シート!$D$3>=中間シート!$F130,中間シート!H130<>0),中間シート!H130,\"\")","v":""},{"$f":"IF(AND(中間シート!I130<>0,B108<>\"\"),中間シート!I130,\"\")","v":""},"",""]
["　事業場４５",{"$f":"IF(AND(中間シート!$D$3>=中間シート!$F131,中間シート!H131<>0),中間シート!H131,\"\")","v":""},{"$f":"IF(AND(中間シート!I131<>0,B109<>\"\"),中間シート!I131,\"\")","v":""},"",""]
["　事業場４６",{"$f":"IF(AND(中間シート!$D$3>=中間シート!$F132,中間シート!H132<>0),中間シート!H132,\"\")","v":""},{"$f":"IF(AND(中間シート!I132<>0,B110<>\"\"),中間シート!I132,\"\")","v":""},"",""]
["　事業場４７",{"$f":"IF(AND(中間シート!$D$3>=中間シート!$F133,中間シート!H133<>0),中間シート!H133,\"\")","v":""},{"$f":"IF(AND(中間シート!I133<>0,B111<>\"\"),中間シート!I133,\"\")","v":""},"",""]
["　事業場４８",{"$f":"IF(AND(中間シート!$D$3>=中間シート!$F134,中間シート!H134<>0),中間シート!H134,\"\")","v":""},{"$f":"IF(AND(中間シート!I134<>0,B112<>\"\"),中間シート!I134,\"\")","v":""},"",""]
["　事業場４９",{"$f":"IF(AND(中間シート!$D$3>=中間シート!$F135,中間シート!H135<>0),中間シート!H135,\"\")","v":""},{"$f":"IF(AND(中間シート!I135<>0,B113<>\"\"),中間シート!I135,\"\")","v":""},"",""]
["　事業場５０",{"$f":"IF(AND(中間シート!$D$3>=中間シート!$F136,中間シート!H136<>0),中間シート!H136,\"\")","v":""},{"$f":"IF(AND(中間シート!I136<>0,B114<>\"\"),中間シート!I136,\"\")","v":""},"",""]
["合 計",{"$f":"IF(SUM(B65:B114)=0,\"\",SUM(B65:B114))","v":""},{"$f":"IF(SUM(C65:C114)=0,\"\",SUM(C65:C114))","v":""},null,{"$f":"IF(SUM(E65:E114)=0,\"\",SUM(E65:E114))","v":""}]

{"sheet":"非表示シート","index":7,"n_rows":2,"n_cols":4,"rows_kept":2,"cut":false,"hidden":true,"merged":[]}
["補助事業名","年度","データ名","更新日"]
["整備","R3","様式第９","20211027_1"]